BEGIN:VCALENDAR
VERSION:2.0
PRODID:-//Ghid Local Brasov - ECPv5.1.1//NONSGML v1.0//EN
CALSCALE:GREGORIAN
METHOD:PUBLISH
X-WR-CALNAME:Ghid Local Brasov
X-ORIGINAL-URL:https://ghidlocal.com/brasov
X-WR-CALDESC:Events for Ghid Local Brasov
BEGIN:VTIMEZONE
TZID:Europe/Bucharest
BEGIN:DAYLIGHT
TZOFFSETFROM:+0200
TZOFFSETTO:+0300
TZNAME:EEST
DTSTART:20170326T010000
END:DAYLIGHT
BEGIN:STANDARD
TZOFFSETFROM:+0300
TZOFFSETTO:+0200
TZNAME:EET
DTSTART:20171029T010000
END:STANDARD
END:VTIMEZONE
BEGIN:VEVENT
DTSTART;TZID=Europe/Bucharest:20170721T130000
DTEND;TZID=Europe/Bucharest:20170721T180000
DTSTAMP:20260420T121731
CREATED:20170721T075056Z
LAST-MODIFIED:20170724T070634Z
UID:16465-1500642000-1500660000@ghidlocal.com
SUMMARY:Photo & Art Expo - Sorin & Rina
DESCRIPTION:În luna iulie\, Rope Street Museum\, găzduiește operele a doi artiști autohtoni: Rina (pictură) și Sorin (fotografie). Vă așteptăm cu drag la expoziția cu vânzare din cadrul muzeului. \nAflată la lansarea celei de a doua colecții din carieră\, Rina iși mută pensulele într-un peisaj total diferit față de prima colecție. Dacă\, colecția “ States of Mind”\, lansată în primăvara anului trecut\, vorbea despre sentimente și stări interioare\, colecția “ Tortillon” vorbește despre întâlniri între marii artiști ai lumii. Cuvântul Tortillon\, originar din limba franceză\, reprezintă un instrument de desen cilindric la capete care ajută la amestecarea liniiilor făcute în cărbune\, creion sau alte materiale. \nAtentă la materialul cu care lucrează\, și la tehnicile folosite de marii maeștri precum Dali\, Picasso\, Frida Khalo\, și mulți alții\, Rina și-a imaginat o lume în care acești artiști au lucrat împreună. \nFiecare operă de artă are farmecul și însemnătatea ei originală\, însă combinată cu o altă lucrare celebră\, toate sensurile se schimbă iar farmecul ia o nouă înfățișare. Discursul pictural este unul comun pentru întreaga serie de lucrări din care transpar alburi colorate\, galbenuri luminoase şi numeroase tente de albastru. \nAşternute cu o oarecare lejeritate se distinge o matitate în care forma răspunde spre a reţine modelul şi de a-l fixa undeva în timp. Se observă şi o naturaleţe în exprimare epurată de orice extravaganţă\, totul concentrându-se pe mijloacele specifice picturi precum forma şi culoarea. \nMai multe lucrari ale artistei le puteti gasi pe site-ul acesteia: http://www.rina.gallery \nExpoziția de fotografie își propune să trimită spectatorul într-o călătorie spre meleaguri sau locuri în timp de o frumusețe rară. Discret\, se citesc emoții\, trăiri din călătoria eternă a sufletului. Simetria\, repetiția\, contrastul\, coerența\, simbolismul și un strop de ironie sunt componentele unui echilibru regăsit în aceste fotografii\, aparent cu cea mai simplă însă totodată și cea mai complicată temă: peisajul.\nFotograful Sorin Oancea este intr-o constanta cautare a de a-si define tehnica fotografica. Nu se poate specializa doar intr-un singur domeniu pentru ca ii place sa isi urmeze impusul si sentimentele la momentul si locul potrivit. Mai multe lucrari ale fotografului le puteti gasi pe https://www.facebook.com/SorinOanceaPhotographer/ \n
URL:https://ghidlocal.com/brasov/eveniment/photo-art-expo-sorin-rina/2017-07-21/
LOCATION:Rope Street Museum\, Str. Cerbului 13\, Brassó\, 500015\, Romania
ATTACH;FMTTYPE=image/jpeg:https://cdn.cluj.com/ghidlocalcom/sites/6/2017/07/8bb445756d004ce443073cc976b488a9.jpg
END:VEVENT
END:VCALENDAR