BEGIN:VCALENDAR
VERSION:2.0
PRODID:-//Ghid Local Brasov - ECPv5.1.1//NONSGML v1.0//EN
CALSCALE:GREGORIAN
METHOD:PUBLISH
X-WR-CALNAME:Ghid Local Brasov
X-ORIGINAL-URL:https://ghidlocal.com/brasov
X-WR-CALDESC:Events for Ghid Local Brasov
BEGIN:VTIMEZONE
TZID:Europe/Bucharest
BEGIN:DAYLIGHT
TZOFFSETFROM:+0200
TZOFFSETTO:+0300
TZNAME:EEST
DTSTART:20180325T010000
END:DAYLIGHT
BEGIN:STANDARD
TZOFFSETFROM:+0300
TZOFFSETTO:+0200
TZNAME:EET
DTSTART:20181028T010000
END:STANDARD
END:VTIMEZONE
BEGIN:VEVENT
DTSTART;TZID=Europe/Bucharest:20180104T210000
DTEND;TZID=Europe/Bucharest:20180104T210000
DTSTAMP:20260423T053248
CREATED:20180103T213152Z
LAST-MODIFIED:20180103T213807Z
UID:33571-1515099600-1515099600@ghidlocal.com
SUMMARY:Oldies but Goldies
DESCRIPTION:Joia este seara marilor trupe ale anilor 70\, 80 și 90 !\nAducem tribut celor mai mari nume ale tuturor timpurilor și le dăm viață prin comoara primită de la ei – muzica de calitate ! \nINFO & RSVP: 0733 800 700\nM.Kogalniceanu 15\, Brasov \n
URL:https://ghidlocal.com/brasov/eveniment/oldies-but-goldies/
LOCATION:Temple Pub\, Strada Mihail Kogalniceanu no. 15\, Brasov\, 500173\, RO
CATEGORIES:Party-uri Brasov
ATTACH;FMTTYPE=image/jpeg:https://cdn.cluj.com/ghidlocalcom/sites/6/2018/01/33571_image_26172749_1801166953250222_6716352506513616150_o.jpg
END:VEVENT
END:VCALENDAR