BEGIN:VCALENDAR
VERSION:2.0
PRODID:-//Ghid Local Brasov - ECPv5.1.1//NONSGML v1.0//EN
CALSCALE:GREGORIAN
METHOD:PUBLISH
X-WR-CALNAME:Ghid Local Brasov
X-ORIGINAL-URL:https://ghidlocal.com/brasov
X-WR-CALDESC:Events for Ghid Local Brasov
BEGIN:VTIMEZONE
TZID:Europe/Bucharest
BEGIN:DAYLIGHT
TZOFFSETFROM:+0200
TZOFFSETTO:+0300
TZNAME:EEST
DTSTART:20170326T010000
END:DAYLIGHT
BEGIN:STANDARD
TZOFFSETFROM:+0300
TZOFFSETTO:+0200
TZNAME:EET
DTSTART:20171029T010000
END:STANDARD
END:VTIMEZONE
BEGIN:VEVENT
DTSTART;TZID=Europe/Bucharest:20171222T220000
DTEND;TZID=Europe/Bucharest:20171222T220000
DTSTAMP:20260421T084605
CREATED:20171219T072406Z
LAST-MODIFIED:20171220T143046Z
UID:32314-1513980000-1513980000@ghidlocal.com
SUMMARY:Office Christmas Party
DESCRIPTION:În atenția persoanelor care lucrează în domeniul Office: Vineri si Sambata\, 22 & 23 Decembrie\, sunteti convocați la cea mai mare reuniune informală din acest sezon\, la Warehouse Pub Brasov. \n#OfficeChristmasParty este un concept exclusivist de „After Office Party” bazat pe networking & fun între colegii de breaslă.\n––––––––––––––––––––––––––––––\nMusic by #DjSihe from 22:00 \nParticiparea nu presupune nicio taxă de înscriere\, iar comenzile de food & drinks se vor onora A la Carte . ( bucataria functioneaza pana la ora 00:00 )\n––––––––––––––––––––––––––––––\nFeel free to invite your colleagues at Office Christmas Party by Warehouse Pub. \nParteneri : Zile si Nopti Brasov \, WiGO \, Ghid Local Brasov \n
URL:https://ghidlocal.com/brasov/eveniment/office-christmas-party/2017-12-22/
LOCATION:Warehouse Pub\, Lucian Blaga nr.8\, Brasov\, 500008\, RO
CATEGORIES:Party-uri Brasov
ATTACH;FMTTYPE=image/jpeg:https://cdn.cluj.com/ghidlocalcom/sites/6/2017/12/32314_image_25487598_2087801454783267_8681671392782793225_o.jpg
END:VEVENT
END:VCALENDAR