BEGIN:VCALENDAR
VERSION:2.0
PRODID:-//Ghid Local Brasov - ECPv5.1.1//NONSGML v1.0//EN
CALSCALE:GREGORIAN
METHOD:PUBLISH
X-WR-CALNAME:Ghid Local Brasov
X-ORIGINAL-URL:https://ghidlocal.com/brasov
X-WR-CALDESC:Events for Ghid Local Brasov
BEGIN:VTIMEZONE
TZID:Europe/Bucharest
BEGIN:DAYLIGHT
TZOFFSETFROM:+0200
TZOFFSETTO:+0300
TZNAME:EEST
DTSTART:20180325T010000
END:DAYLIGHT
BEGIN:STANDARD
TZOFFSETFROM:+0300
TZOFFSETTO:+0200
TZNAME:EET
DTSTART:20181028T010000
END:STANDARD
END:VTIMEZONE
BEGIN:VEVENT
DTSTART;TZID=Europe/Bucharest:20180424T100000
DTEND;TZID=Europe/Bucharest:20180425T180000
DTSTAMP:20260423T062802
CREATED:20180111T151432Z
LAST-MODIFIED:20180111T151432Z
UID:34686-1524564000-1524679200@ghidlocal.com
SUMMARY:Natalia Clima\, Brasov\, 24-25 aprilie\, Bridal Beauty Bliss
DESCRIPTION:In goana dupa noutate\, trenduri si informatii utile\, makeup artistii zilnic se rătăcesc printre miile de saituri dedicate industriei beauty.\nBridal Beauty Bliss este un master class unic\, care vine sa adune la un loc stilul\, trendul si frumusetea\, pentru un rezultat sublim – Mireasa. \nDin program:\nTeorie:\n✔Tendințe – Cu ce vine nou 2018 si ce pastreaza din 2017?\n✔Tipologiile mireselor.\n✔Profilul comportamental al miresei.\n✔Identificarea stilului miresei pentru alegerea corecta a machiajului.\n✔Consultație vs. Proba\n✔Controverse si discutii despre pretul machiajului de mireasa.\n✔Stiluri de machiaje.\n✔Cromatica perfectă in machiajul de nunta.\n✔Crearea tenului/decolteului de portelan\n✔Machiaj corector sau machiaj decorativ?\n✔Tehnici si texturi noi pentru machiaje rezistente.\n✔Portofoliul makeup artistului pentru cliente mirese.\n✔Retelele de socializare – instrumente de promovare a serviciilor de nunta. \nLa partea demonstrativă vor fi prezentate 6 machiaje de mireasa alese in functie de modele\, tipologia si stilistica propusă. Vom urmări „construirea” stilurilor de la clasic la modern\, rustic\, vintaj sau boem. \n– Formatul de aceasta data este de 2 zile\, doar DEMO – full day (10:00-18:00)\n– Pret 700 lei\n– Pentru rezervarea locului – 100 lei avans\, diferenta in prima zi de curs.\n– Tematica\, asa cum v-am obisnuit primavara – cea a nuntilor si mireselor.\n– In program\, cate 3 demonstratii pe zi\, bineinteles machiaje de mireasa + teorie\, din nou pastrand aspectele cele mai importante din teorie atunci cand vorbim de machiajul care trebuie sa arate bine\, in lumina naturala\, artificiala\, dar si foto. \nPentru inscrieri va rugam tel sau sms la 0753602554. \n
URL:https://ghidlocal.com/brasov/eveniment/natalia-clima-brasov-24-25-aprilie-bridal-beauty-bliss/
LOCATION:Brasov\, Romania\, Brasov\, RO
CATEGORIES:Workshop Brasov
ATTACH;FMTTYPE=image/jpeg:https://cdn.cluj.com/ghidlocalcom/sites/6/2018/01/34686_image_26240195_679349932273783_8072265247528785093_o.jpg
END:VEVENT
END:VCALENDAR