BEGIN:VCALENDAR
VERSION:2.0
PRODID:-//Ghid Local Brasov - ECPv5.1.1//NONSGML v1.0//EN
CALSCALE:GREGORIAN
METHOD:PUBLISH
X-WR-CALNAME:Ghid Local Brasov
X-ORIGINAL-URL:https://ghidlocal.com/brasov
X-WR-CALDESC:Events for Ghid Local Brasov
BEGIN:VTIMEZONE
TZID:Europe/Bucharest
BEGIN:DAYLIGHT
TZOFFSETFROM:+0200
TZOFFSETTO:+0300
TZNAME:EEST
DTSTART:20180325T010000
END:DAYLIGHT
BEGIN:STANDARD
TZOFFSETFROM:+0300
TZOFFSETTO:+0200
TZNAME:EET
DTSTART:20181028T010000
END:STANDARD
END:VTIMEZONE
BEGIN:VEVENT
DTSTART;TZID=Europe/Bucharest:20180426T203000
DTEND;TZID=Europe/Bucharest:20180426T203000
DTSTAMP:20260423T044158
CREATED:20180214T075707Z
LAST-MODIFIED:20180214T075707Z
UID:40901-1524774600-1524774600@ghidlocal.com
SUMMARY:Mircea RUSU & BAND
DESCRIPTION:Mircea RUSU BAND este un grup alcatuit din instrumentisti consacrati si cunoscuti in lumea muzicala\n autohtona care s-au strans in jurul cantautorului \, compozitorului si poetului Mircea Rusu. In aceasta\n componenta sunt prezenti: Ștefan Orfescu chitara\,voce\, Teo Boar: chitara\, voce si Vlady Cnejevici-claviaturi\,voce.\n Repertoriul grupului cuprinde piese cunoscute si foarte populare cum ar fi: Hai baieti sa bem o bere\, Omu’ bun si pomu’ copt\, Verde-nrourat\, Iarba verde de acasa\, Campuri aurii\, precum si o multime de cantece noi\, in prima auditie\, toate avand potentialul slagarelor mai sus amintite\, menite sa improspateze peisajul muzical romanesc avand aceeasi acuratete si calitate a textelor si mesajelor\n cuprinse in ele.\n Intreg repertoriul acestui concert beneficiaza de orchestratii la zi\,conferindu-i astfel o actualitate muzicala si asigurand o diversitate in unitatea stilistica nconfundabila\, accesibila tuturor varstelor si\n categoriilor socio-profesionale. \nBilete:\n 35 lei  in avans pana la data de 1 aprilie\n 45 lei  dupa data de 1 aprilie inclusiv\nEvenimentul este sustinut cu sprijinul JIM BEAM  astfel ca toti participantii vor primi gratuit la intrare\, un pachet de carti profesionale Poker in valoare de 20 lei.\nContact 0734188977 \n
URL:https://ghidlocal.com/brasov/eveniment/mircea-rusu-band/
LOCATION:Foișorul Astra\, Str Panselelor\, Nr 2\, Brasov\, 500419\, RO
CATEGORIES:Party-uri Brasov
ATTACH;FMTTYPE=image/jpeg:https://cdn.cluj.com/ghidlocalcom/sites/6/2018/02/40901_image_27907736_2074920362646502_8109211391188345993_o.jpg
END:VEVENT
END:VCALENDAR