BEGIN:VCALENDAR
VERSION:2.0
PRODID:-//Ghid Local Brasov - ECPv5.1.1//NONSGML v1.0//EN
CALSCALE:GREGORIAN
METHOD:PUBLISH
X-WR-CALNAME:Ghid Local Brasov
X-ORIGINAL-URL:https://ghidlocal.com/brasov
X-WR-CALDESC:Events for Ghid Local Brasov
BEGIN:VTIMEZONE
TZID:Europe/Bucharest
BEGIN:DAYLIGHT
TZOFFSETFROM:+0200
TZOFFSETTO:+0300
TZNAME:EEST
DTSTART:20180325T010000
END:DAYLIGHT
BEGIN:STANDARD
TZOFFSETFROM:+0300
TZOFFSETTO:+0200
TZNAME:EET
DTSTART:20181028T010000
END:STANDARD
END:VTIMEZONE
BEGIN:VEVENT
DTSTART;TZID=Europe/Bucharest:20180314T220000
DTEND;TZID=Europe/Bucharest:20180315T050000
DTSTAMP:20260421T041045
CREATED:20180307T231152Z
LAST-MODIFIED:20180307T231152Z
UID:44629-1521064800-1521090000@ghidlocal.com
SUMMARY:Meet Your Crush
DESCRIPTION:Ai văzut-o la facultate? Ai trimis mesaj? Nu crezi că e timpul să o întâlnești în realitate?\nÎn sfârșit a sosit evenimentul pe care îl așteptam cu toții\, UnibvCrush organizează mega petrecere în Move!\nMiercuri\, 14 Martie\, este ziua cea mare – Crush’s Day \nDacă ai dat like paginii UnibvCrush și share acestui eveniment ai șansa de a câștiga o invitație gratis.\nStay tuned! Urmează și alte surprize. \nDoors Open at 22:00 | RSVP: 0799 100 200\nDress code: smart casual \nAccesul este permis doar persoanelor care au împlinit vârsta de 18 ani!\nMOVE Club își rezerva dreptul de a-și selecta clientela!\nArtwork by Roland Muresan \nIntrarea se va face pe baza unei dovezi (act/poza) prin care să demonstrezi că ești student al Universității Transilvania din Brașov. \n
URL:https://ghidlocal.com/brasov/eveniment/meet-your-crush/
LOCATION:MOVE Club\, Mihail Kogalniceanu\, nr 15\, Brasov\, 500090\, RO
CATEGORIES:Party-uri Brasov
ATTACH;FMTTYPE=image/jpeg:https://cdn.cluj.com/ghidlocalcom/sites/6/2018/03/44629_image_28701657_194387191161756_5856425758013433337_o.jpg
END:VEVENT
END:VCALENDAR