BEGIN:VCALENDAR
VERSION:2.0
PRODID:-//Ghid Local Brasov - ECPv5.1.1//NONSGML v1.0//EN
CALSCALE:GREGORIAN
METHOD:PUBLISH
X-WR-CALNAME:Ghid Local Brasov
X-ORIGINAL-URL:https://ghidlocal.com/brasov
X-WR-CALDESC:Events for Ghid Local Brasov
BEGIN:VTIMEZONE
TZID:Europe/Bucharest
BEGIN:DAYLIGHT
TZOFFSETFROM:+0200
TZOFFSETTO:+0300
TZNAME:EEST
DTSTART:20180325T010000
END:DAYLIGHT
BEGIN:STANDARD
TZOFFSETFROM:+0300
TZOFFSETTO:+0200
TZNAME:EET
DTSTART:20181028T010000
END:STANDARD
END:VTIMEZONE
BEGIN:VEVENT
DTSTART;TZID=Europe/Bucharest:20180505T200000
DTEND;TZID=Europe/Bucharest:20180505T235900
DTSTAMP:20260422T204147
CREATED:20180228T155415Z
LAST-MODIFIED:20180228T155415Z
UID:43414-1525550400-1525564740@ghidlocal.com
SUMMARY:Marduk\, Ragnarok\, Infernal War - 05\,05 - Brasov
DESCRIPTION:Rockstadt Extreme Fest prezinta: \nMARDUK – Sambata\, 5 mai\, Kruhnen Musik Halle\, Brasov \nSpecial guests: \nRagnarok\nhttps://web.facebook.com/ragnarokofficial/ \nInfernal War\nhttps://web.facebook.com/infernalwarofficial/ \nDetalii si bilete in curand \n
URL:https://ghidlocal.com/brasov/eveniment/marduk-ragnarok-infernal-war-0505-brasov/
LOCATION:Kruhnen Musik Halle\, Nicolae Titulescu\, 2P\, Brasov\, RO
CATEGORIES:Party-uri Brasov
ATTACH;FMTTYPE=image/jpeg:https://cdn.cluj.com/ghidlocalcom/sites/6/2018/02/43414_image_28337133_1037737789708988_8067208479698220535_o.jpg
END:VEVENT
END:VCALENDAR