BEGIN:VCALENDAR
VERSION:2.0
PRODID:-//Ghid Local Brasov - ECPv5.1.1//NONSGML v1.0//EN
CALSCALE:GREGORIAN
METHOD:PUBLISH
X-WR-CALNAME:Ghid Local Brasov
X-ORIGINAL-URL:https://ghidlocal.com/brasov
X-WR-CALDESC:Events for Ghid Local Brasov
BEGIN:VTIMEZONE
TZID:Europe/Bucharest
BEGIN:DAYLIGHT
TZOFFSETFROM:+0200
TZOFFSETTO:+0300
TZNAME:EEST
DTSTART:20180325T010000
END:DAYLIGHT
BEGIN:STANDARD
TZOFFSETFROM:+0300
TZOFFSETTO:+0200
TZNAME:EET
DTSTART:20181028T010000
END:STANDARD
END:VTIMEZONE
BEGIN:VEVENT
DTSTART;TZID=Europe/Bucharest:20180420T180000
DTEND;TZID=Europe/Bucharest:20180422T180000
DTSTAMP:20260423T095142
CREATED:20180327T074948Z
LAST-MODIFIED:20180327T074948Z
UID:47055-1524247200-1524420000@ghidlocal.com
SUMMARY:Manifestarea Creatorului Interior
DESCRIPTION:Acest curs iși propune să vă ajute să dezvoltați simțurile\, recunoașterea de sine și Creatorul care sunteți. Fiecare dintre voi\, nu toți\, ați făcut mai multe cursuri și totuși nu le folosiți îndeajuns. Aveți cunoaștere unii dintre voi\, dar parcă nu reușiți să o așezați astfel încât să capete sens și să aveți eficiență maximă. \nImi propun să vă călăuzesc prin cursul meu pe o cale mai simplă prin care să imbinați ceea ce ați învățat până acum cu ceea ce am acumulat eu în lucrul cu mine și cu ceilalți. Am adunat și am pus la un loc informațiile și instrumentele de la cursurile pe care le-am făcut și cunoașterea pe care am acumulat-o pe parcurs\, în timp ce lucram. \nProgramul va fi următorul:\n* vineri va fi o prezentare a cursului\, în intervalul 18:00-21:00.\n*sâmbătă\, începând cu ora 10:00 vom intra în lumea cristalelor și a energiei lor\, până la ora 13:00. Veți avea pauza de masa o oră (13:00-14:00). În intervalul 14:00-18:00 vă voi călăuzi în lucrul cu Focul Sacru\, Flacăra Violet și nu numai.\n*duminică\, în intervalul 10:00- 18:00 vom lucra împreună exerciții practice și vom aprofunda ceea ce ați învățat. Pauza de masa va fi în intervalul 13:00-14:00. \nPrețul acestui curs este de 800 Ron\, care va putea fi plătit vineri seara. În acest preț intra suportul de curs și coffee-break-urile. Masa de prânz nu este inclusă. \nVa fi un week-end plin de magie\, cunoaștere și cristale!  \nVă aștept cu drag!\nSilvia Niță – bioenergoterapeut\, cristaloterapeut \nPS: Dacă simțiți să vă aduceți cu voi câte un cristal\, o puteți face (puteți aduce chiar mai multe). 🙂 \n
URL:https://ghidlocal.com/brasov/eveniment/manifestarea-creatorului-interior-3/
LOCATION:Leia\, Calea Bucuresti\, 54\, Brasov\, 500365\, RO
CATEGORIES:Cursuri
ATTACH;FMTTYPE=image/jpeg:https://cdn.cluj.com/ghidlocalcom/sites/6/2018/03/47055_image_29543073_2074069962830425_2576305626687016994_n.jpg
END:VEVENT
END:VCALENDAR