BEGIN:VCALENDAR
VERSION:2.0
PRODID:-//Ghid Local Brasov - ECPv5.1.1//NONSGML v1.0//EN
CALSCALE:GREGORIAN
METHOD:PUBLISH
X-WR-CALNAME:Ghid Local Brasov
X-ORIGINAL-URL:https://ghidlocal.com/brasov
X-WR-CALDESC:Events for Ghid Local Brasov
BEGIN:VTIMEZONE
TZID:Europe/Bucharest
BEGIN:DAYLIGHT
TZOFFSETFROM:+0200
TZOFFSETTO:+0300
TZNAME:EEST
DTSTART:20180325T010000
END:DAYLIGHT
BEGIN:STANDARD
TZOFFSETFROM:+0300
TZOFFSETTO:+0200
TZNAME:EET
DTSTART:20181028T010000
END:STANDARD
END:VTIMEZONE
BEGIN:VEVENT
DTSTART;TZID=Europe/Bucharest:20180314T190000
DTEND;TZID=Europe/Bucharest:20180314T220000
DTSTAMP:20260420T175136
CREATED:20180307T173211Z
LAST-MODIFIED:20180307T173211Z
UID:44565-1521054000-1521064800@ghidlocal.com
SUMMARY:Mâinile curate salvează vieți!
DESCRIPTION:Vă așteptăm cu drag în seara zilei de 14 martie la Sala patria din Brașov\, unde profesorul Didier Pittet ne face onoarea de a fi prezent în Brașov\, începând cu orele 19\,00\, pentru a prezenta împreună cu producătorul Parijat Seth filmul ″Mâinile curate salvează vieți″\, pentru ca apoi\, alături de scriitorul Thierry Crouzet\, să ofere participanților la eveniment\, cartea cu autograf. Evenimentul este organizat de Spitalul Sf. Constantin în parteneriat cu direcția cultură a Primăriei Brașov.\nIntrarea este liberă. \n
URL:https://ghidlocal.com/brasov/eveniment/mainile-curate-salveaza-vieti/
LOCATION:Sala Patria\, Bulevardul 15 Noiembrie 50A\, Brasov\, 500096\, RO
CATEGORIES:Film Brasov
ATTACH;FMTTYPE=image/jpeg:https://cdn.cluj.com/ghidlocalcom/sites/6/2018/03/44565_image_28576798_1880985855268903_6232231330155855872_o.jpg
END:VEVENT
END:VCALENDAR