BEGIN:VCALENDAR
VERSION:2.0
PRODID:-//Ghid Local Brasov - ECPv5.1.1//NONSGML v1.0//EN
CALSCALE:GREGORIAN
METHOD:PUBLISH
X-WR-CALNAME:Ghid Local Brasov
X-ORIGINAL-URL:https://ghidlocal.com/brasov
X-WR-CALDESC:Events for Ghid Local Brasov
BEGIN:VTIMEZONE
TZID:Europe/Bucharest
BEGIN:DAYLIGHT
TZOFFSETFROM:+0200
TZOFFSETTO:+0300
TZNAME:EEST
DTSTART:20180325T010000
END:DAYLIGHT
BEGIN:STANDARD
TZOFFSETFROM:+0300
TZOFFSETTO:+0200
TZNAME:EET
DTSTART:20181028T010000
END:STANDARD
END:VTIMEZONE
BEGIN:VEVENT
DTSTART;TZID=Europe/Bucharest:20180401T120000
DTEND;TZID=Europe/Bucharest:20180401T150000
DTSTAMP:20260421T163745
CREATED:20180330T075413Z
LAST-MODIFIED:20180330T075413Z
UID:47456-1522584000-1522594800@ghidlocal.com
SUMMARY:Magia Curajului - Spectacol interactiv de Inteligenta Emotionala
DESCRIPTION:Copiii și părinții sunt invitați să învețe cu plăcere despre emoții și lumea interioară –  precum și să antreneze abilități ale Inteligenței Emoționale – totul într-un format interactiv original care combină: teatrul\, magia\, dronele zburătoare\, personajele animate\, efectele vizuale și muzica. \nMiri – creatura cu fălcuțe care încântă inima oricui\, împreună cu Zendoo – dispozitivul magic de comunicare\, vor să cunoască adevăratele superputeri ale oamenilor: emoțiile\, rațiunea\, valorile și darurile lor minunate. Astfel\, ei călătoresc prin lumile interioare ale copiilor\, descoperind secrete incredibile! \nÎntr-o zi\, Miri vrea să ajungă în Lumea celor Curajoși\, unde a auzit că trăiesc cei mai curajoși oameni din universul Imaginaria! Dorința lui Miri este să le afle secretul pentru a-l ajuta pe Andrei\, copilul în a cărui lume interioară a intrat și unde Frica a ajuns să fie mai folosită decât papucii de casă. \nSe anunță o întreagă aventură în care\, cu ajutorul Magicianului\, explorăm Imaginaria și lumile sale misterioase precum Jucaria\, Amuzaria\, Relaxaria\, întâlnind surprize la tot pasul. \nMiza este și mai mare pentru că doar după ce Miri află secretul celor Curajoși vom putea zbura cu drona cea mare care le place atât de mult copiilor. \nToate acestea sunt povestite în așa fel încât copiii nu sunt păcăliți\, ci înțeleg că sunt lucruri și trucuri imaginare – din Imaginaria – dar care ne vorbesc despre o realitate interioară pe care o putem întâlni în fiecare dintre noi. \n
URL:https://ghidlocal.com/brasov/eveniment/magia-curajului-spectacol-interactiv-de-inteligenta-emotionala/
LOCATION:Hirscher 12\, APOLLONIA HIRSCHER No 12.\, Brasov\, 500015\, RO
CATEGORIES:Party-uri Brasov
ATTACH;FMTTYPE=image/jpeg:https://cdn.cluj.com/ghidlocalcom/sites/6/2018/03/47456_image_29354939_2050280221894883_5872304830120280656_o.jpg
END:VEVENT
END:VCALENDAR