BEGIN:VCALENDAR
VERSION:2.0
PRODID:-//Ghid Local Brasov - ECPv5.1.1//NONSGML v1.0//EN
CALSCALE:GREGORIAN
METHOD:PUBLISH
X-WR-CALNAME:Ghid Local Brasov
X-ORIGINAL-URL:https://ghidlocal.com/brasov
X-WR-CALDESC:Events for Ghid Local Brasov
BEGIN:VTIMEZONE
TZID:Europe/Bucharest
BEGIN:DAYLIGHT
TZOFFSETFROM:+0200
TZOFFSETTO:+0300
TZNAME:EEST
DTSTART:20180325T010000
END:DAYLIGHT
BEGIN:STANDARD
TZOFFSETFROM:+0300
TZOFFSETTO:+0200
TZNAME:EET
DTSTART:20181028T010000
END:STANDARD
END:VTIMEZONE
BEGIN:VEVENT
DTSTART;TZID=Europe/Bucharest:20180106T230000
DTEND;TZID=Europe/Bucharest:20180106T230000
DTSTAMP:20260425T005411
CREATED:20180105T070926Z
LAST-MODIFIED:20180105T085721Z
UID:33943-1515279600-1515279600@ghidlocal.com
SUMMARY:Lucky Saturday 06.01.2018
DESCRIPTION:ROOMS te conduce catre o seara norocoasa de sambata!!\n4 prieteni vor primi 4 produse de la bar ( o sticla de alcool si 3 soft drinks)\,vor fi intampinati inca de la intrare cu cate 4 shot-uri!! \nDeschidem cele 4 camere ale inimii tale si cele 4 ferestre ale distractiei din 4 rooms!! \nIntrare:10 lei (bon consumabil)\nTake your table–>0771444444! \n
URL:https://ghidlocal.com/brasov/eveniment/lucky-saturday-06-01-2018/
CATEGORIES:Party-uri Brasov
ATTACH;FMTTYPE=image/jpeg:https://cdn.cluj.com/ghidlocalcom/sites/6/2018/01/33943_image_26166918_978031792345993_1113334624985744972_n.jpg
END:VEVENT
END:VCALENDAR