BEGIN:VCALENDAR
VERSION:2.0
PRODID:-//Ghid Local Brasov - ECPv5.1.1//NONSGML v1.0//EN
CALSCALE:GREGORIAN
METHOD:PUBLISH
X-WR-CALNAME:Ghid Local Brasov
X-ORIGINAL-URL:https://ghidlocal.com/brasov
X-WR-CALDESC:Events for Ghid Local Brasov
BEGIN:VTIMEZONE
TZID:Europe/Bucharest
BEGIN:DAYLIGHT
TZOFFSETFROM:+0200
TZOFFSETTO:+0300
TZNAME:EEST
DTSTART:20170326T010000
END:DAYLIGHT
BEGIN:STANDARD
TZOFFSETFROM:+0300
TZOFFSETTO:+0200
TZNAME:EET
DTSTART:20171029T010000
END:STANDARD
END:VTIMEZONE
BEGIN:VEVENT
DTSTART;TZID=Europe/Bucharest:20171129T220000
DTEND;TZID=Europe/Bucharest:20171129T220000
DTSTAMP:20260421T084227
CREATED:20171124T073242Z
LAST-MODIFIED:20171127T094508Z
UID:29595-1511992800-1511992800@ghidlocal.com
SUMMARY:Kitsch PARTY 2017
DESCRIPTION:Tradiţia continuă\, iar Interact Club Brașov vă asteaptă la încă o noapte de neuitat cu ocazia unei noi ediţii KITSCH PARTY! \n29 NOIEMBRIE – ora 22:00\n@MOVe \nProfităm de scurta vacanță și vă așteptăm într-un număr cât mai mare! \nACCES: 20 Ron \nRezervări : 0799 100 200 \n
URL:https://ghidlocal.com/brasov/eveniment/kitsch-party-2017/
LOCATION:MOVE Club\, Mihail Kogalniceanu\, nr 15\, Brasov\, 500090\, RO
CATEGORIES:Cursuri
ATTACH;FMTTYPE=image/jpeg:https://cdn.cluj.com/ghidlocalcom/sites/6/2017/11/29595_image_23736330_1771911596166104_3326779368934797913_o.jpg
END:VEVENT
END:VCALENDAR