BEGIN:VCALENDAR
VERSION:2.0
PRODID:-//Ghid Local Brasov - ECPv5.1.1//NONSGML v1.0//EN
CALSCALE:GREGORIAN
METHOD:PUBLISH
X-WR-CALNAME:Ghid Local Brasov
X-ORIGINAL-URL:https://ghidlocal.com/brasov
X-WR-CALDESC:Events for Ghid Local Brasov
BEGIN:VTIMEZONE
TZID:Europe/Bucharest
BEGIN:DAYLIGHT
TZOFFSETFROM:+0200
TZOFFSETTO:+0300
TZNAME:EEST
DTSTART:20180325T010000
END:DAYLIGHT
BEGIN:STANDARD
TZOFFSETFROM:+0300
TZOFFSETTO:+0200
TZNAME:EET
DTSTART:20181028T010000
END:STANDARD
END:VTIMEZONE
BEGIN:VEVENT
DTSTART;TZID=Europe/Bucharest:20180424T110000
DTEND;TZID=Europe/Bucharest:20180522T130000
DTSTAMP:20260423T062547
CREATED:20180327T132724Z
LAST-MODIFIED:20180327T132724Z
UID:47138-1524567600-1526994000@ghidlocal.com
SUMMARY:Jurnalul meu Artterapeutic
DESCRIPTION:Scopul acestor ateliere este de a deschide o poartă spre o modalitate blândă şi creativă de lucru cu temele noastre de viaţă: jurnalul vizual. \nVom avea cinci întâlniri în care să învăţăm să folosim jurnalul artterapeutic\, o modalitate creativă de gestionare a emoţiilor\, de vindecare. Simplul fapt că ne acordăm un timp nouă\, sufletului nostru\, este un prim pas spre echilibrul nostru emoţional. Ignorând mereu ce simţim\, amânând la nesfârşit să ne îngrijim de suflet pentru că nu avem timp sau ne temem\, vom ajunge să aducem suferinţa şi în plan fizic. \nCe îţi propun este un timp pentru sufletul tău\,marţea\, de la ora 10.30\, intr-un cadru de linişte\, de siguranţă\, într-un grup mic\, aşa…ca între prieteni\, la un ceai şi o vorbă frumoasă. \nCe vom face: vom picta\, vom desena\, vom face colaje\, vom medita şi vom povesti. \nNu este nevoie de talent la desen. \nVom aborda teme ca gestionarea stresului şi a emoţiilor\, vindecarea rănilor din copilărie\, relaţia cu mama\, stima de sine\, ataşamentele etc. În funcţie de nevoile grupului\, putem adauga şi alte teme. \nFrecvenţă: săptămânal\, marţea de la ora 11 \nDurată: aproximativ două ore fiecare atelier \nCost: 260 de lei (include toate cele cinci întâlniri\, caietul de schiţe\, toate materialele necesare\, apă şi ceai).  \nRezervarea locului se face prin achitarea unui avans de 100 de lei. Restul de 160 de lei se achită în a doua sau a treia şedinţă. \nÎnscrierile se fac pe email artterapiebrasov@gmail.com sau la telefon 0721439717 \nFacilitator: Raluca Robu\, psiholog cu formare în Evaluarea şi Consilierea Experienţială a Adultului\, Copilului\, Cuplului şi Familiei în cadrul Societăţii de Psihoterapie Experenţială Română (SPER). \n
URL:https://ghidlocal.com/brasov/eveniment/jurnalul-meu-artterapeutic-2/
LOCATION:Artterapie – Brasov\, Strada Avram Iancu nr. 76\, Brasov\, 505200\, RO
CATEGORIES:Ateliere Brasov
ATTACH;FMTTYPE=image/jpeg:https://cdn.cluj.com/ghidlocalcom/sites/6/2018/03/47138_image_29597807_1590158101037280_5969239810756879222_n.jpg
END:VEVENT
END:VCALENDAR