BEGIN:VCALENDAR
VERSION:2.0
PRODID:-//Ghid Local Brasov - ECPv5.1.1//NONSGML v1.0//EN
CALSCALE:GREGORIAN
METHOD:PUBLISH
X-WR-CALNAME:Ghid Local Brasov
X-ORIGINAL-URL:https://ghidlocal.com/brasov
X-WR-CALDESC:Events for Ghid Local Brasov
BEGIN:VTIMEZONE
TZID:Europe/Bucharest
BEGIN:DAYLIGHT
TZOFFSETFROM:+0200
TZOFFSETTO:+0300
TZNAME:EEST
DTSTART:20180325T010000
END:DAYLIGHT
BEGIN:STANDARD
TZOFFSETFROM:+0300
TZOFFSETTO:+0200
TZNAME:EET
DTSTART:20181028T010000
END:STANDARD
END:VTIMEZONE
BEGIN:VEVENT
DTSTART;TZID=Europe/Bucharest:20180107T100000
DTEND;TZID=Europe/Bucharest:20180107T140000
DTSTAMP:20260425T033521
CREATED:20180103T213015Z
LAST-MODIFIED:20180103T213015Z
UID:33558-1515319200-1515333600@ghidlocal.com
SUMMARY:Initiere Reiki\, gr. I
DESCRIPTION:Despre Reiki \nÎncă din timpuri străvechi\, prin experiența oamenilor\, Reiki a devenit obiectul unei metode de vindecare. Reiki numim energia ce ne înconjoară\, darul Universului care ne aduce ”iubire\, armonie și vindecare”. Metoda Reiki\, vindecare prin mâini\, are scop ridicarea nivelului vibrațional și eliminarea energiilor negative care provoacă suferință\, boli\, necazuri\, supărări\, mânie etc.\nSuntem învăluiți în energie și totul din jurul nostru este energie\, vibrație\, iar noi\, oamenii suntem tot energie\, o energie care pulsează\, iar Reiki este energia care vibrează cu conștiința înaltă a omului\, dăruindu-i sănătate și împlinire. \nLinia de inițiere în Reiki este: \nMikao Usui -> Kan’ichi Taketoni -> Kimiko Koyana -> Hiroshi Doi -> Călin Petre Cotaru -> Bogdan Levitchi -> Anamaria Cristina Werczberger  \nÎn această inițiere vei învăța: \n* Introducere în Reiki \n* Ce este reiki? \n* Cum se folosește energia Reiki? \n* Vindecarea în Reiki – învățarea celor 12 poziții  \n* Baza pentru autotratament \n* Reiki pentru mâncare și băutură \n* Reiki pentru animale \n* Reiki pentru plante și mediu \n* Purificare și încărcare energetică (a casei\, mâncării\, apei\, cristalelor etc.) \nMetode pentru creștere personală: \n* Kenyoku – Îmbăiere uscată\, este o tehnică de curățare a propriei energii interne cu vibrație reiki și face parte din vindecarea pentru auto-purificare și creștere \n* Hikari no Kokyu – Tehnica de respirație cu lumină\, este o metodă de reducere a stresului și purificare a minții și trupului. \n* Dușul Reiki\, o cale simplă de a te îmbăia în Reiki\, pentru cuățarea corpului și activarea propriei energii \n* Meditația Chakrelor\, tehnică de respirație pentru activarea chakrelor. \nCursul de grad 1 este baza abilităților de a te conecta și de a lucra cu energia Reiki. \nPot participa și persoane care au primul grad de Reiki pentru o reîmprospătare a energiei în cazul în care nu s-a practicat constant.\nPrețul pentru cei cărora le-am făcut inițiere este: 150 lei \nCând? Duminica 7/01/2018\nUnde? Yugen-Ai Studio\nCât costă? 250 lei \nLocuri limitate.\nÎnscrierile se fac prin trimiterea unui email la adresa monika@yugen-ai.ro. \nFacilitator:\nAna Werczberger \nDespre mine \nAna WERCZBERGER (CORDEA) – Coach NLP Kutschera Rezonanz®\, Maestru Grad IV Gendai Reiki\, Terapeut Theta Healing\, Practician Remedii Florale Bach\, Instructor Yoga&Pilates\, Cofondator Yoga Academy România.\nTot timpul mi-am dorit să ajut oamenii și datorită acestei motivații am mers cu specializări pe cele 3 paliere care ne formează ca un tot\, corp-minte-suflet.\nSimt că am ajuns în punctul în care pot oferi din cunoștințele și experiențele mele la cât mai multe persoane care sunt în căutarea acestui echilibru între cele 3 planuri. \n
URL:https://ghidlocal.com/brasov/eveniment/initiere-reiki-gr-i/
LOCATION:Yugen-Ai\, Mihail Kogălniceanu 17\, Brasov\, 500090\, RO
CATEGORIES:Cursuri
ATTACH;FMTTYPE=image/jpeg:https://cdn.cluj.com/ghidlocalcom/sites/6/2018/01/33558_image_26167910_272613719936340_3693573952668635123_n.jpg
END:VEVENT
END:VCALENDAR