BEGIN:VCALENDAR
VERSION:2.0
PRODID:-//Ghid Local Brasov - ECPv5.1.1//NONSGML v1.0//EN
CALSCALE:GREGORIAN
METHOD:PUBLISH
X-WR-CALNAME:Ghid Local Brasov
X-ORIGINAL-URL:https://ghidlocal.com/brasov
X-WR-CALDESC:Events for Ghid Local Brasov
BEGIN:VTIMEZONE
TZID:Europe/Bucharest
BEGIN:DAYLIGHT
TZOFFSETFROM:+0200
TZOFFSETTO:+0300
TZNAME:EEST
DTSTART:20170326T010000
END:DAYLIGHT
BEGIN:STANDARD
TZOFFSETFROM:+0300
TZOFFSETTO:+0200
TZNAME:EET
DTSTART:20171029T010000
END:STANDARD
END:VTIMEZONE
BEGIN:VEVENT
DTSTART;TZID=Europe/Bucharest:20171223T110000
DTEND;TZID=Europe/Bucharest:20171223T120000
DTSTAMP:20260420T082609
CREATED:20171220T080341Z
LAST-MODIFIED:20171220T080341Z
UID:32436-1514026800-1514030400@ghidlocal.com
SUMMARY:În așteptarea lui Moș Crăciun cu Ana Alfianu
DESCRIPTION:Sâmbătă\, 23 decembrie\, de la ora 11\, Moș Crăciun ne face o mare surpriză: o va aduce pe Ana Alfianu în librărie! \nCitim din minunata ei carte și ne lăsăm purtați de imaginație într-un atelier de ilustrație. Oare ce vom desena? Voi nu sunteți curioși? \nP.S. Moșul ne va aduce și bomboane 🙂 \n
URL:https://ghidlocal.com/brasov/eveniment/in-asteptarea-lui-mos-craciun-cu-ana-alfianu/
LOCATION:Librăria Humanitas Brașov\, Piata Sfatului\, nr 16\, Brasov\, RO
CATEGORIES:Altele,Cultural
ATTACH;FMTTYPE=image/jpeg:https://cdn.cluj.com/ghidlocalcom/sites/6/2017/12/32436_image_25532161_1132012590269402_1738981496310764979_o.jpg
END:VEVENT
END:VCALENDAR