BEGIN:VCALENDAR
VERSION:2.0
PRODID:-//Ghid Local Brasov - ECPv5.1.1//NONSGML v1.0//EN
CALSCALE:GREGORIAN
METHOD:PUBLISH
X-WR-CALNAME:Ghid Local Brasov
X-ORIGINAL-URL:https://ghidlocal.com/brasov
X-WR-CALDESC:Events for Ghid Local Brasov
BEGIN:VTIMEZONE
TZID:Europe/Bucharest
BEGIN:DAYLIGHT
TZOFFSETFROM:+0200
TZOFFSETTO:+0300
TZNAME:EEST
DTSTART:20180325T010000
END:DAYLIGHT
BEGIN:STANDARD
TZOFFSETFROM:+0300
TZOFFSETTO:+0200
TZNAME:EET
DTSTART:20181028T010000
END:STANDARD
END:VTIMEZONE
BEGIN:VEVENT
DTSTART;TZID=Europe/Bucharest:20180314T180000
DTEND;TZID=Europe/Bucharest:20180314T200000
DTSTAMP:20260420T131013
CREATED:20180309T123729Z
LAST-MODIFIED:20180309T123729Z
UID:44842-1521050400-1521057600@ghidlocal.com
SUMMARY:Homeopatia - o solutie la indemana
DESCRIPTION:Plecand de la motto-ul enuntat de Juvenal “Mens sana in corpore sano”\, va invitam la un eveniment special\, dedicate oricarei persoane pentru care sanatatea este de nepretuit.\nVa propunem o intalnire interactive despre HOMEOPATIE\, la care vom afla secretele terapiei alternative atat pentru afectiunile acute cat si pentru cele cornice\, inca din prima zi de viata.  \nNe raspunde la intrebari Dr. Manuela Lidia Pitis Morosanu – medic specialist MM\, terapeut homeopat. \nCand: miercuri 14 martie\, la Tip Top Mini Club. \nParticiparea la acest eveninent este gratuita\, doar prin inscriere in prealabil la numarul de telefon 0737 521 312\, sau pe facebook prin mesaj privat. \n
URL:https://ghidlocal.com/brasov/eveniment/homeopatia-o-solutie-la-indemana/
LOCATION:TIP TOP MInI CLuB\, Str. Ioan Popasu\, Brasov\, 507190\, RO
CATEGORIES:Activitati Copii
ATTACH;FMTTYPE=image/jpeg:https://cdn.cluj.com/ghidlocalcom/sites/6/2018/03/44842_image_28951116_157837968212115_8416067173327306752_n.jpg
END:VEVENT
END:VCALENDAR