BEGIN:VCALENDAR
VERSION:2.0
PRODID:-//Ghid Local Brasov - ECPv5.1.1//NONSGML v1.0//EN
CALSCALE:GREGORIAN
METHOD:PUBLISH
X-WR-CALNAME:Ghid Local Brasov
X-ORIGINAL-URL:https://ghidlocal.com/brasov
X-WR-CALDESC:Events for Ghid Local Brasov
BEGIN:VTIMEZONE
TZID:Europe/Bucharest
BEGIN:DAYLIGHT
TZOFFSETFROM:+0200
TZOFFSETTO:+0300
TZNAME:EEST
DTSTART:20180325T010000
END:DAYLIGHT
BEGIN:STANDARD
TZOFFSETFROM:+0300
TZOFFSETTO:+0200
TZNAME:EET
DTSTART:20181028T010000
END:STANDARD
END:VTIMEZONE
BEGIN:VEVENT
DTSTART;TZID=Europe/Bucharest:20180302T190000
DTEND;TZID=Europe/Bucharest:20180302T190000
DTSTAMP:20260420T135359
CREATED:20180215T214437Z
LAST-MODIFIED:20180226T103425Z
UID:41195-1520017200-1520017200@ghidlocal.com
SUMMARY:Greek Live Music with Dionysios Passas
DESCRIPTION:Pentru prima data la Athanasios\, Dionysios Passas ne promite o petrecere de neuitat cu muzica 100% live. \nVino sa descoperi dansurile traditionale grecesti\, precum Ikariotikos\,koftos\,zeibetiko\,hasapiko\,nisiopika. \nInfo&Rezervari la 0729 000 199 \n
URL:https://ghidlocal.com/brasov/eveniment/greek-live-music-with-dionysios-passas/2018-03-02/
LOCATION:Restaurant Athanasios\, Gheorghe Baritiu 8\, Brasov\, RO
CATEGORIES:Culinar Brasov
ATTACH;FMTTYPE=image/jpeg:https://cdn.cluj.com/ghidlocalcom/sites/6/2018/02/41195_image_27973889_337658429974675_5765190999097935157_n.jpg
END:VEVENT
END:VCALENDAR