BEGIN:VCALENDAR
VERSION:2.0
PRODID:-//Ghid Local Brasov - ECPv5.1.1//NONSGML v1.0//EN
CALSCALE:GREGORIAN
METHOD:PUBLISH
X-WR-CALNAME:Ghid Local Brasov
X-ORIGINAL-URL:https://ghidlocal.com/brasov
X-WR-CALDESC:Events for Ghid Local Brasov
BEGIN:VTIMEZONE
TZID:Europe/Bucharest
BEGIN:DAYLIGHT
TZOFFSETFROM:+0200
TZOFFSETTO:+0300
TZNAME:EEST
DTSTART:20180325T010000
END:DAYLIGHT
BEGIN:STANDARD
TZOFFSETFROM:+0300
TZOFFSETTO:+0200
TZNAME:EET
DTSTART:20181028T010000
END:STANDARD
END:VTIMEZONE
BEGIN:VEVENT
DTSTART;TZID=Europe/Bucharest:20180315T090000
DTEND;TZID=Europe/Bucharest:20180315T140000
DTSTAMP:20260421T055520
CREATED:20180307T171803Z
LAST-MODIFIED:20180307T173555Z
UID:44521-1521104400-1521122400@ghidlocal.com
SUMMARY:ECFS 2018
DESCRIPTION:Conferința Europeană a Serviciilor Financiare (European Conference on Financial Services – ECFS 2018)\, este organizată în perioada 15 – 16 martie 2018 la Brașov\, la inițiativa Institutului de Studii Financiare\, a Universității „Petru Maior” din Tîrgu Mureș\, a Societății Române de Cercetare pentru Afaceri Publice și Private\, a Universității „Transilvania” din Brașov și a Academiei de Studii Economice din București. Conferința se bucură de parteneriatul Universității de Vest din Timișoara\, al Universității „Valahia” din Târgoviște și al Universității „Babeș – Bolyai” din Cluj Napoca\, alături de cel oferit de Asociația Română de Drept și Afaceri Europene (ARDAE)\, de Asociația Centrul de Arbitraj și Mediere în Asigurări (ACAMA) și de Institutul Național de Control Intern din România (INCIR).\nAvansul tehnologic al ultimilor ani\, schimbarea implicită a condițiilor de piață și interesul manifestat pentru protecția investitorilor\, dacă vorbim de piața financiară\, sau pentru asigurați\, dacă ne referim la piața asigurărilor\, sunt motivele care au stat la baza revoluției legislative europene în domeniul serviciilor financiare. Aplicarea din 25 mai 2018 a Regulamentului 2016/679 privind protecția datelor cu caracter personal se constituie într-o piatră de hotar în orice industrie care se adresează în mod nemijlocit și particularilor. Tot 2018 este anul de implementare a MIFID II / MIFIR\, dar și a IDD.\nPanelurile pe care le propun cele două zile de dezbateri teoretice și practice sunt dedicate identificării unor soluții adecvate pentru o tranziție lină\, dar reușită\, la noile standarde europene. \n
URL:https://ghidlocal.com/brasov/eveniment/ecfs-2018/2018-03-15/
LOCATION:Brasov\, Romania\, Brasov\, RO
CATEGORIES:Conferinte Brasov
ATTACH;FMTTYPE=image/jpeg:https://cdn.cluj.com/ghidlocalcom/sites/6/2018/03/44521_image_28515284_890118771168813_6655993156487910907_o.jpg
END:VEVENT
END:VCALENDAR