BEGIN:VCALENDAR
VERSION:2.0
PRODID:-//Ghid Local Brasov - ECPv5.1.1//NONSGML v1.0//EN
CALSCALE:GREGORIAN
METHOD:PUBLISH
X-WR-CALNAME:Ghid Local Brasov
X-ORIGINAL-URL:https://ghidlocal.com/brasov
X-WR-CALDESC:Events for Ghid Local Brasov
BEGIN:VTIMEZONE
TZID:Europe/Bucharest
BEGIN:DAYLIGHT
TZOFFSETFROM:+0200
TZOFFSETTO:+0300
TZNAME:EEST
DTSTART:20180325T010000
END:DAYLIGHT
BEGIN:STANDARD
TZOFFSETFROM:+0300
TZOFFSETTO:+0200
TZNAME:EET
DTSTART:20181028T010000
END:STANDARD
END:VTIMEZONE
BEGIN:VEVENT
DTSTART;TZID=Europe/Bucharest:20180315T190000
DTEND;TZID=Europe/Bucharest:20180315T203000
DTSTAMP:20260421T070551
CREATED:20180103T175105Z
LAST-MODIFIED:20180103T175105Z
UID:33550-1521140400-1521145800@ghidlocal.com
SUMMARY:Doua surori mortale
DESCRIPTION:Scenariu adaptare după „Three O ‘Clock” de Ana- Maria Bamberger. \nClara și Abelina sunt două surori în vârstă\, care nu pot trăi una fără cealaltă\, împreună nici atât.Cu toate acestea\, Clara o convinge pe Abelina să-și vândă apartamentul și să se mute la ea\, pentru a-l ajuta pe Dimi\, fiul neînțeles al Abelinei și nepotul mult iubit al Clarei\, să demareze o carieră întârziată. Acum cele doua surori locuiesc împreună și nu ezită să-și creeze zilnic varianta lor de mic infern. \nUn spectacol marca Teatrul Particular Brașov.\nRezervări 0799 977 357\nPret bilet 30 lei/ 15 lei pentru elevi si studenti \n
URL:https://ghidlocal.com/brasov/eveniment/doua-surori-mortale-3/
LOCATION:Teatrul Particular Brasov\, Str Piata George Enescu nr 2 Brasov\, Brasov\, 500031\, RO
CATEGORIES:Teatru Brasov
ATTACH;FMTTYPE=image/jpeg:https://cdn.cluj.com/ghidlocalcom/sites/6/2018/01/33550_image_26197767_1572021719556281_6977750940407994022_o.jpg
END:VEVENT
END:VCALENDAR