BEGIN:VCALENDAR
VERSION:2.0
PRODID:-//Ghid Local Brasov - ECPv5.1.1//NONSGML v1.0//EN
CALSCALE:GREGORIAN
METHOD:PUBLISH
X-WR-CALNAME:Ghid Local Brasov
X-ORIGINAL-URL:https://ghidlocal.com/brasov
X-WR-CALDESC:Events for Ghid Local Brasov
BEGIN:VTIMEZONE
TZID:Europe/Bucharest
BEGIN:DAYLIGHT
TZOFFSETFROM:+0200
TZOFFSETTO:+0300
TZNAME:EEST
DTSTART:20180325T010000
END:DAYLIGHT
BEGIN:STANDARD
TZOFFSETFROM:+0300
TZOFFSETTO:+0200
TZNAME:EET
DTSTART:20181028T010000
END:STANDARD
END:VTIMEZONE
BEGIN:VEVENT
DTSTART;TZID=Europe/Bucharest:20180331T100000
DTEND;TZID=Europe/Bucharest:20180331T130000
DTSTAMP:20260420T112404
CREATED:20180326T124026Z
LAST-MODIFIED:20180326T124026Z
UID:46986-1522490400-1522501200@ghidlocal.com
SUMMARY:Diagrama Human Design-partea a II-a
DESCRIPTION:Vreți să vă ajutați copilul să își cunoască darurile native și să-și îndeplinească scopul în viață\, dar totuși să-l faceți să meargă la timp la culcare și să-și mănânce legumele (fără amenințări\, pedepse\, mită sau frustrarea și iritarea dvs.)? \nVă invit \,sâmbătă 31 Martie pentru a descoperi împreună :\n– Cum să descifrați și să utilizați diagrama dvs. Human Design și cea a copilului dvs. pentru a crește toleranța și înțelegerea reciprocă!\n– Cum să vă înțelegeți tipul de energie vitală și pe cel al copilului dumneavoastră !\n– Cum să comunicați eficient cu copilul Dvs. în funcție de tipul său de energie\, calculat cu ajutorul diagramei HD! \nDiagrama Human Design îți oferă un plan\, o foaie de parcurs\, o hartă care să te ajute să navighezi cel mai bine in viață. Cunoașterea\, înțelegerea și educarea copilului prin intermediul acestui sistem inovator este la fel ca și obținerea unui\nmanual de instrucțiuni. \nA-ți cunoaste copilul prin intermediul unei diagrame Human Design este o experiență extraordinară. Aceasta elimină vălul preconcepțiilor și îti permite să îti crești copilul într-un mod care îi onorează adevărata natură și energie. \nCunoașterea propriului dvs. design și a copilului dvs. permite o dezvăluire a dinamicii familiale nealterabile\, genetice. Văzând ceea ce nu poate fi modificat în dinamica familiei\, sunteți eliberat de încercarea de a schimba ce nu poate fi schimbat și va îndruma spre găsirea unor abordări alternative de rezolvare aproblemelor. \nFiecare copil este unic și nu este neapărat dotat cu aceleași talente și energii ca ale părinților sau ale fratilor lui. Dați copilului șansa de a-și cunoaște unicitatea și veți avea un adult bine adaptat și dotat cu resursele necesare pentru a reuși în viață. \nVino împreună cu copilul tău\, dacă nu ai cu cine să îl lași și noi ne vom ocupa de el cât tu participi la eveniment. \nCine prezintă?\nAna-Maria Paveluc\, mamă\, pshiholog\, psihoterapeut\, psihopedagog și analist HumanDesign. \n
URL:https://ghidlocal.com/brasov/eveniment/diagrama-human-design-partea-a-ii-a/
LOCATION:Copiii Curcubeului\, Strada Scolii 6\, Brasov\, RO
CATEGORIES:Activitati Copii
ATTACH;FMTTYPE=image/jpeg:https://cdn.cluj.com/ghidlocalcom/sites/6/2018/03/46986_image_29356624_192799234780157_8168282053230460928_o.jpg
END:VEVENT
END:VCALENDAR