BEGIN:VCALENDAR
VERSION:2.0
PRODID:-//Ghid Local Brasov - ECPv5.1.1//NONSGML v1.0//EN
CALSCALE:GREGORIAN
METHOD:PUBLISH
X-WR-CALNAME:Ghid Local Brasov
X-ORIGINAL-URL:https://ghidlocal.com/brasov
X-WR-CALDESC:Events for Ghid Local Brasov
BEGIN:VTIMEZONE
TZID:Europe/Bucharest
BEGIN:DAYLIGHT
TZOFFSETFROM:+0200
TZOFFSETTO:+0300
TZNAME:EEST
DTSTART:20180325T010000
END:DAYLIGHT
BEGIN:STANDARD
TZOFFSETFROM:+0300
TZOFFSETTO:+0200
TZNAME:EET
DTSTART:20181028T010000
END:STANDARD
END:VTIMEZONE
BEGIN:VEVENT
DTSTART;TZID=Europe/Bucharest:20180417T190000
DTEND;TZID=Europe/Bucharest:20180417T210000
DTSTAMP:20260423T113131
CREATED:20180322T115857Z
LAST-MODIFIED:20180322T115857Z
UID:46513-1523991600-1523998800@ghidlocal.com
SUMMARY:"DEZBRACA-TE\,VREAU SA-TI VORBESC!"-BRASOV
DESCRIPTION:Intense rasturnari de situatie si quiproquo-uri surprinzatoare!\nAutor:Marc Camoletti\nRegizor:Puiu Serban\nScenografie:Ion Molete\nCostume:Tania Popa \nDistributie:\nBernard:Bogdan Stanoevici\nRobert:Lucian Ghimisi\nSuzette:Maria Buza\nJacqueline:Alecandra Velniciuc\nSuzanne:Anca Dinicu\nGeorge:Marcelo Cobzariu \n?:70/90 ron\nBiletele se pot achizitiona de la Casieria Sala Patria\,L-V:12-17\n?Rezervari:0745 830738 \n
URL:https://ghidlocal.com/brasov/eveniment/dezbraca-tevreau-sa-ti-vorbesc-brasov/
LOCATION:Teatrul „Sică Alexandrescu” Brașov\, Piata Teatrului Nr. 1\, Brasov\, RO
CATEGORIES:Teatru Brasov
ATTACH;FMTTYPE=image/jpeg:https://cdn.cluj.com/ghidlocalcom/sites/6/2018/03/46513_image_29433011_2130835403815043_4883489016550260736_o.jpg
END:VEVENT
END:VCALENDAR