BEGIN:VCALENDAR
VERSION:2.0
PRODID:-//Ghid Local Brasov - ECPv5.1.1//NONSGML v1.0//EN
CALSCALE:GREGORIAN
METHOD:PUBLISH
X-WR-CALNAME:Ghid Local Brasov
X-ORIGINAL-URL:https://ghidlocal.com/brasov
X-WR-CALDESC:Events for Ghid Local Brasov
BEGIN:VTIMEZONE
TZID:Europe/Bucharest
BEGIN:DAYLIGHT
TZOFFSETFROM:+0200
TZOFFSETTO:+0300
TZNAME:EEST
DTSTART:20170326T010000
END:DAYLIGHT
BEGIN:STANDARD
TZOFFSETFROM:+0300
TZOFFSETTO:+0200
TZNAME:EET
DTSTART:20171029T010000
END:STANDARD
END:VTIMEZONE
BEGIN:VEVENT
DTSTART;TZID=Europe/Bucharest:20170622T090000
DTEND;TZID=Europe/Bucharest:20170622T163000
DTSTAMP:20260421T084746
CREATED:20170519T104419Z
LAST-MODIFIED:20170615T070030Z
UID:12639-1498122000-1498149000@ghidlocal.com
SUMMARY:Desen emisfera dreapta cu Iudita Pelea
DESCRIPTION:Desen cu emisfera dreapta cu Iudita Pelea\n22-25 iunie\nsau\n12-15 octombrie\norar: zilnic de la 09:00 la 16:30 \nPuteti opta pentru perioada in care doriti sa participati la curs.\nCost curs: 540. Avans curs 100 lei\nDetalii si inscriere: 0742483333 \nCa sa putem intra in modul de functionare subdominant\, receptiv adica de ”emisfera dreapta” ED\, este foarte important sa-i dam creierului o sarcina la care emisfera stanga ES\, cea verbala\, analizatoare sa fie pusa in umbra.\nPentru cei mai multi dintre noi gandirea tip ES este cea normala (exceptie fiind copii dislexici). Modul ED pare complicat\, necunoscut chiar bizar. Creierul avantajeaza modul de functionare ES din cauza rolului mare pe care il are in vorbire.Trebuie sa invatam sa gandim in mod opus. Prin exercitiu se poate realiza aceasta\, ca la nevoia de a rezolva anumite probleme sa ne putem conecta la modul ED\, activand astfel unele functii ale creierului pe care limbajul uneori le blocheaza. \nAparent prin perceptia pe care o dezvoltam in procesul de invatare al desenului putem interveni in modul de percepere al lumii inconjuratoare. Functia de redactare a creierului este decuplata\, astfel noi fiind capabili de a vedea global si mai verosimil.\nAceasta experienta uneori poate fi socanta si tulburatoare.Dupa absolvirea acestui curs foarte multi is exprima convingerea ca “lumea a devenit mai bogata”. Modul nou de percepere al lumii este un motiv suficient pentru absolvirea acestui curs. \nTehnica desenului cu emisfera dreapta \nContrar credintelor noastre\, pentru a desena nu e nevoie de o dexteritate speciala. Daca stii sa scrii poti invata sa desenezi. Conform teoriei doamnei Betty Edwards e nevoie de 7 nivele de abilitate ca sa ajungi sa desenezi artistic. Acestea sunt: \nPerceptia contururilor \nPerceptia spatiilor \nPerceptia raporturilor si relatiilor dintre linii \nPerceptia luminilor si a umbrelor \nPerceptia intregului \nAbilitatea de a desena din amintire \nAbilitatea de a desena din imaginatie \nIn cadrul cursului nostru ne vom ocupa de dezvoltarea primelor cinci abilitati. In decursul celor patru zile vom invata sa desenam portret dupa poza\, dar dupa insusirea tehnicilor vom fi capabili sa desenam orice. \nExercitiile care sunt accesibile pentru toata lumea\, servesc pentru doua scopuri.In primul rand invatam sa desenam\, dar desenul este un mijloc\, nu un scop.Iti vei creste semnificativ tehnica de desen in aceste patru zile\, vei invata sa desenezi portret\, dar asta este doar un subprodus. Emisfera noastra stanga functioneaza la o capacitate de 4000 de biti\, iar cea dreapta la 11 milioane de biti. Scopul principal este sa-ti exploatezi posibilitatile emisferei cerebrale drepte\,posibilitati care sunt limitate de lumea noastra rationala\,sa redescoperi si sa-ti traiesti creativitatea\, intuitia\,puterea creativa. Prin toate acestea vei reusi sa-ti imbunatatesti\, imbogatesti diferite domenii ale vietii tale. \nCine sustine?\nIudita Pelea -autoarea a cartilor „El Camino\, pelerinaj către sine” si „Tato Pani”\n„Mi-am gasit vocatia dupa ce am absolvit in anul 2008 un curs de Desen cu Emisfera Dreapta in Ungaria. In anul 2011 am adus in premiera Cursul de Desen cu Emisfera Dreapta in Romania. De atunci reusesc sa impartasesc magia cu toti cursantii mei. Imi place sa scriu\, sa alerg cu prietenii mei de nadejde Bogyo si Flori\, sa calatoresc si sa ma uit la seriale langa semineu. \nAm convingerea ca niciodata nu e prea tarziu pentru o schimbare.” \n
URL:https://ghidlocal.com/brasov/eveniment/desen-emisfera-dreapta-cu-iudita-pelea/2017-06-22/
LOCATION:Alexaevent.ro\, Strada15 noiembrie nr 44\, Brasov\, Romania
ATTACH;FMTTYPE=image/jpeg:https://cdn.cluj.com/ghidlocalcom/sites/6/2017/05/3a6bc513115e29f845341d68f724720d.jpg
END:VEVENT
END:VCALENDAR