BEGIN:VCALENDAR
VERSION:2.0
PRODID:-//Ghid Local Brasov - ECPv5.1.1//NONSGML v1.0//EN
CALSCALE:GREGORIAN
METHOD:PUBLISH
X-WR-CALNAME:Ghid Local Brasov
X-ORIGINAL-URL:https://ghidlocal.com/brasov
X-WR-CALDESC:Events for Ghid Local Brasov
BEGIN:VTIMEZONE
TZID:Europe/Bucharest
BEGIN:DAYLIGHT
TZOFFSETFROM:+0200
TZOFFSETTO:+0300
TZNAME:EEST
DTSTART:20180325T010000
END:DAYLIGHT
BEGIN:STANDARD
TZOFFSETFROM:+0300
TZOFFSETTO:+0200
TZNAME:EET
DTSTART:20181028T010000
END:STANDARD
END:VTIMEZONE
BEGIN:VEVENT
DTSTART;TZID=Europe/Bucharest:20180315T180000
DTEND;TZID=Europe/Bucharest:20180315T200000
DTSTAMP:20260421T070559
CREATED:20180227T104405Z
LAST-MODIFIED:20180227T104405Z
UID:42975-1521136800-1521144000@ghidlocal.com
SUMMARY:De la pasiune la profesie
DESCRIPTION:Venirea pe lume a unui copil iti schimba total prioritatile. Concediul de maternitate iti ofera ragazul de care ai nevoie pentru a gasi/regasi pasiuni. Ce faci insa cand concediul se apropie de final? Te intorci la vechiul job si ingropi pasiunea\, le faci pe amandoua in paralel sau transformi pasiunea in profesie? \nCare sunt pasii spre a transforma pasiunea in profesie ii poti afla alaturi de noi: Diana Silohi (Bacania Dulce)\, Lumi Puia(Frizeria Licurici)\, Andra Pop(Marry Poppins Juice Delivery ) si invitatele noaste Mihaela Plesca (consultant Google Atelierul Digital Hub) si Daniela Gruia (minialbum.ro).\nAsadar te asteptam intr-un cadru prietenos la o limonada si ceva dulce\, o vorba buna si o incurajare sincera ? \nContributie: 35 lei/persoana (inclusa limonada Marry Poppins\, o gustarica sanatoasa si un desert Bacania dulce) \nRezervare prin completarea formularului urmator:https://docs.google.com/forms/d/e/1FAIpQLSfcLoUNWiMXsaSg43p1AboWxaif1aJPvCYPlIWADMtXwTAZGg/viewform?usp=sf_link \n
URL:https://ghidlocal.com/brasov/eveniment/de-la-pasiune-la-profesie/
LOCATION:TeCo\, strada Rosiorilor nr 33\, Brasov\, 500102\, RO
CATEGORIES:Ateliere Brasov
ATTACH;FMTTYPE=image/jpeg:https://cdn.cluj.com/ghidlocalcom/sites/6/2018/02/42975_image_28279449_211101766108211_2435787909355356920_n.jpg
END:VEVENT
END:VCALENDAR