BEGIN:VCALENDAR
VERSION:2.0
PRODID:-//Ghid Local Brasov - ECPv5.1.1//NONSGML v1.0//EN
CALSCALE:GREGORIAN
METHOD:PUBLISH
X-WR-CALNAME:Ghid Local Brasov
X-ORIGINAL-URL:https://ghidlocal.com/brasov
X-WR-CALDESC:Events for Ghid Local Brasov
BEGIN:VTIMEZONE
TZID:Europe/Bucharest
BEGIN:DAYLIGHT
TZOFFSETFROM:+0200
TZOFFSETTO:+0300
TZNAME:EEST
DTSTART:20170326T010000
END:DAYLIGHT
BEGIN:STANDARD
TZOFFSETFROM:+0300
TZOFFSETTO:+0200
TZNAME:EET
DTSTART:20171029T010000
END:STANDARD
END:VTIMEZONE
BEGIN:VEVENT
DTSTART;TZID=Europe/Bucharest:20171219T190000
DTEND;TZID=Europe/Bucharest:20171219T220000
DTSTAMP:20260420T082248
CREATED:20171205T072456Z
LAST-MODIFIED:20171205T072456Z
UID:30605-1513710000-1513720800@ghidlocal.com
SUMMARY:Daruieste din Inima
DESCRIPTION:Avem placerea de a va invita la evenimentul caritabil \,\,Daruieste din inima’’ care va avea loc in data de 19 Decembrie\, la Warehouse PUB ( Str. Lucian Blaga Nr 8 )\, incepand cu ora 19:00\nScopul evenimentului constă în strângerea de fonduri\, aşadar intrarea se va face pe bază de donaţie.\nPe scenă vor evolua prietenii nostri de la Trupa CALEnDAR cu un repertoriu impresionant de colinde tradiţionale\,cântece de Crăciun si cantece de munte.\nToti banii stransi in urma acestui eveniment ii vom directiona pentru ajutorarea copiilor din Centrele \,\,Chip&Dale’’ Sacele si pentru renovarea bucatariei de la Centrul de Reabilitare Bradet ( acolo unde in luna ianuarie un incediu a distrus una din casutele unde erau adapostiti copiii )\nIn fata locatiei vom avea o camioneta in care vom aduna pachetele cu haine\, incaltaminte si jucarii pentru copii ( rugaminte sa fie trecut pe pachet categoria si varsta ) \n
URL:https://ghidlocal.com/brasov/eveniment/daruieste-din-inima/
LOCATION:Warehouse Pub\, Lucian Blaga nr.8\, Brasov\, 500008\, RO
CATEGORIES:Party-uri Brasov
ATTACH;FMTTYPE=image/jpeg:https://cdn.cluj.com/ghidlocalcom/sites/6/2017/12/30605_image_24831232_312589635903326_6002795899278154290_o.jpg
END:VEVENT
END:VCALENDAR