BEGIN:VCALENDAR
VERSION:2.0
PRODID:-//Ghid Local Brasov - ECPv5.1.1//NONSGML v1.0//EN
CALSCALE:GREGORIAN
METHOD:PUBLISH
X-WR-CALNAME:Ghid Local Brasov
X-ORIGINAL-URL:https://ghidlocal.com/brasov
X-WR-CALDESC:Events for Ghid Local Brasov
BEGIN:VTIMEZONE
TZID:Europe/Bucharest
BEGIN:DAYLIGHT
TZOFFSETFROM:+0200
TZOFFSETTO:+0300
TZNAME:EEST
DTSTART:20180325T010000
END:DAYLIGHT
BEGIN:STANDARD
TZOFFSETFROM:+0300
TZOFFSETTO:+0200
TZNAME:EET
DTSTART:20181028T010000
END:STANDARD
END:VTIMEZONE
BEGIN:VEVENT
DTSTART;TZID=Europe/Bucharest:20180315T191500
DTEND;TZID=Europe/Bucharest:20180315T210000
DTSTAMP:20260421T070550
CREATED:20180225T133625Z
LAST-MODIFIED:20180307T173649Z
UID:42685-1521141300-1521147600@ghidlocal.com
SUMMARY:Dance your unique dance!
DESCRIPTION:~~~Dance Your Unique Dance!~~~ \nA fost una din rezoluțiile tale în noul an să te miști mai mult? Sau să dai mai multă atenție corpului tău? Sau să râzi mai mult? Sau să te cunoști mai bine?\nAtunci te invit la o serie de ateliere de mișcare expresivă. Scopul întâlnirilor va fi să descoperim dansul nostru unic. Vom încerca să ne răspundem la această întrebare printr-o cercetare asumată\, printr-un laborator deschis în care vom lucra cu noi și cu ceilalți\, cu spațiul și cu timpul\, cu corpul și cu mintea. La final vom face împreună un scurt video în care să documentăm descoperirile noastre.\nPentru a participa la aceste ateliere este nevoie să fiți deschiși către joc și joacă\, deoarece atelierele sunt definite de un stil ludic\, în sensul în care istoricul olandez Johan Huizinga definea joaca. Jocul\, spunea Huizinga\, nu este doar un prilej de distracție\, de amuzament\, ci și o formă de exprimare a personalității și de explorare a lumii. Jocul devine astfel un act sacru.\nÎn cadrul atelierelor\, ne vom descoperi pe noi și cum poate dansul să ne ajute în viața de zi cu zi. Ne vom exersa creativitatea și spontaneitatea prin intermediul improvizației\, ne vom găsi rutine zilnice prielnice corpului\, ne vom deschide și ne vom găsi mai intim și mai profund decât reușim deobicei.\nVom folosi tehnici din dans-terapie\, contact improvisation\, dans contemporan și tehnici de improvizație prin mișcare. Vom lucra mult cu ceea ce este deja acolo\, cu momentul prezent\, cu spațiul în care ne desfășurăm și cu oamenii care îl compun.\nVom lucra după modelul *BASCICS\, propus de dans-terapeuta Patricia Capello.\nAstfel ne vom focusa pe Sistemul de Intractiune:\ninterior – corp:\n-Atitudine corporală\n-Imaginea corpului\n-Limitele corpului\n-Conștiența kinestetică\n-Spațiul interior sensorial\nInterior-sine:\n-Conceptul de sine\n-Încrederea în sine\n-Mișcare Autentică\n-Creativitate\nȘi pe sistemul de Interacțiune:\n-Comunicare\n-Dialog în mișcare\n-Exprimare simbolică\n-Ritm\n-Verbalizare\n-Dinamica interpersonală\n-Alianța terapeutică\n-Experiența de grup\n-Socializarea\nFacilitator:\nAnamaria Guguian – este consilier pentru dezvoltare personală\, artist independent\, fondatoare a proiectului I Dance You și organizator de evenimente culturale și de dezvoltare personală pentru copii şi adulţi. Este foarte influențată în munca sa de arte marțiale\, de dans terapie și de contact improvisation. Din 2014 organizează cursuri de mișcare creativă în Brașov. Îi place să aducă dansul în locuri cât mai diverse și să danseze cu oameni din medii cât mai eclectice. Anamaria se descrie ca fiind „un explorator al vieții prin intermediul mișcării.”\nCât durează?\nModulul este împărțit în 7 ședințe. Întâlnirile vor avea loc 1 dată/săptămână începând cu 15 martie și se vor încheia în 26 aprilie\nCând?\nJoi de la 19h15 la 21h00.\nUnde ?\nCasa Armatei\, str. Lunga 1 A\, et.5\nContribuție?\n280 lei\, suma se plătește integral la primul atelier.\nÎnscriere: Mesaj privat pe pagina I Dance You\, email : idanc3you@gmail.com sau la telefon: 0726689713.\nVă așteptăm cu drag ! \n
URL:https://ghidlocal.com/brasov/eveniment/dance-your-unique-dance/2018-03-15/
LOCATION:Casa Armatei\, Brasov\, Brasov\, RO
CATEGORIES:Ateliere Brasov
ATTACH;FMTTYPE=image/jpeg:https://cdn.cluj.com/ghidlocalcom/sites/6/2018/02/42685_image_28235480_662557707247941_3412564521630581807_o.jpg
END:VEVENT
END:VCALENDAR