BEGIN:VCALENDAR
VERSION:2.0
PRODID:-//Ghid Local Brasov - ECPv5.1.1//NONSGML v1.0//EN
CALSCALE:GREGORIAN
METHOD:PUBLISH
X-WR-CALNAME:Ghid Local Brasov
X-ORIGINAL-URL:https://ghidlocal.com/brasov
X-WR-CALDESC:Events for Ghid Local Brasov
BEGIN:VTIMEZONE
TZID:Europe/Bucharest
BEGIN:DAYLIGHT
TZOFFSETFROM:+0200
TZOFFSETTO:+0300
TZNAME:EEST
DTSTART:20170326T010000
END:DAYLIGHT
BEGIN:STANDARD
TZOFFSETFROM:+0300
TZOFFSETTO:+0200
TZNAME:EET
DTSTART:20171029T010000
END:STANDARD
END:VTIMEZONE
BEGIN:VEVENT
DTSTART;TZID=Europe/Bucharest:20171109T090000
DTEND;TZID=Europe/Bucharest:20171109T160000
DTSTAMP:20260420T160456
CREATED:20171030T081053Z
LAST-MODIFIED:20171030T081053Z
UID:27165-1510218000-1510243200@ghidlocal.com
SUMMARY:Customer Care HUB Brasov - 2017
DESCRIPTION:We launched Customer Care HUB in 2017 on a solid\, strong and long-lasting structure of business events declined from our international Customer Care Conference & Expo\, the most important East European event that addresses the customer care industry. \nThis concept enables you to achieve relevant high-quality results\, providing access to best practices\, shared experience\, and professional networking during the conference day. \nKEY TOPICS:\n– How AI is shaping the customer care industry\n– Where AI and neuroscience meet\n– Pros and cons of AI\n– Evolution from human to bot\n– Best practices in implementing AI for customer care\n– Taking customer feedback to the next level\n– The impact of Social Media on recruitment strategy and process \nOn 9th November\, we will be in Brasov for the first time\, where local and international experienced customer care trendsetters are expected.\nJoin us! \nFind more details here:\nhttp://www.conference-arena.com/customer-care-hub-brasov \nRegistration at Laura Galos:\n+40723 833 333\nlaura.galos@conference-arena.com \n
URL:https://ghidlocal.com/brasov/eveniment/customer-care-hub-brasov-2017/
LOCATION:Brasov\, Romania\, Brasov\, RO
CATEGORIES:Conferinte Brasov
ATTACH;FMTTYPE=image/jpeg:https://cdn.cluj.com/ghidlocalcom/sites/6/2017/10/27165_image_22829473_1691957210836456_6015603979140671014_o.jpg
END:VEVENT
END:VCALENDAR