BEGIN:VCALENDAR
VERSION:2.0
PRODID:-//Ghid Local Brasov - ECPv5.1.1//NONSGML v1.0//EN
CALSCALE:GREGORIAN
METHOD:PUBLISH
X-WR-CALNAME:Ghid Local Brasov
X-ORIGINAL-URL:https://ghidlocal.com/brasov
X-WR-CALDESC:Events for Ghid Local Brasov
BEGIN:VTIMEZONE
TZID:Europe/Bucharest
BEGIN:DAYLIGHT
TZOFFSETFROM:+0200
TZOFFSETTO:+0300
TZNAME:EEST
DTSTART:20180325T010000
END:DAYLIGHT
BEGIN:STANDARD
TZOFFSETFROM:+0300
TZOFFSETTO:+0200
TZNAME:EET
DTSTART:20181028T010000
END:STANDARD
END:VTIMEZONE
BEGIN:VEVENT
DTSTART;TZID=Europe/Bucharest:20180416T100000
DTEND;TZID=Europe/Bucharest:20180419T180000
DTSTAMP:20260423T131448
CREATED:20180315T150757Z
LAST-MODIFIED:20180315T150757Z
UID:45669-1523872800-1524160800@ghidlocal.com
SUMMARY:Curs Micropigmentare 16-19 Aprilie 2018
DESCRIPTION:-30% DISCOUNT pentru Curs de bază – acreditat – Micropigmentare (Dermopigmentist) cu durata de 4 zile în perioada 16 –\n19.04.2018.\nÎn partea teoretică se învață:\n– Micropigmenarea sprâncenelor: tehnici + corecții\n– Micropigmenare contur de ochi – Eyeliner: tehnici + corecții\n– Micropigmenare contur de buze: tehnici + corecții\n– Noțiuni de siguranță și igienă\n– Mediul steril la locul de munca conf. Sanepid\n– Anatomie și fizionomie\n– Fototipurile pielii conform scalei Fitzpatrick\n– Colorimetrie\n– Produse specifice (avantaje și dezavantaje)\n– Noțiuni marketing și promovare\n– Suport de curs\n– Suport nelimitat după absolvirea cursului\n– Diploma acreditata de Ministerul Muncii valabila in UE \nÎn partea practică se va exersa pe material inert\, iar ulterior se va exersa sub atenta supraveghere a Trainerului Andrada Voiculescu pe modele umane. \nBONUS și AVANTAJE EXTRA:\n1. Diplomă acreditată\n2. Cazare GRATUITĂ pentru cursanții din afara Brașovului!\nLocația cursului: Brașov România\n3. Protocol și masa de prânz incluse.\n4. Pentru rezultate maxime – Grupa va fi de maxim 4-6 persoane!\n5. 2 Traineri\n6. Diplomă valabilă in UE\n7. La curs pot participa atat persoane care lucreaza in cosmetica cat si cei care doresc un nou inceput de cariera.\n8. 10% Discount la achiziționarea oricărui aparat de micropigmentare \nPentru mai multe detalii vă rugăm sunați la 0741.667.462 sau la 0733.00.11.88 \n#cursmicropigmentare #micropigmentare #cursurimicropigmentare #cursdermopigmentist #dermopigmentist \n
URL:https://ghidlocal.com/brasov/eveniment/curs-micropigmentare-16-19-aprilie-2018/
LOCATION:Beauty Art School by Andrada Voiculescu\, Str. Tarnavei\, Nr.5\, Brasov\, 500327\, RO
CATEGORIES:Cursuri
ATTACH;FMTTYPE=image/jpeg:https://cdn.cluj.com/ghidlocalcom/sites/6/2018/03/45669_image_28947505_551432711888474_2012740922391486303_o.jpg
END:VEVENT
END:VCALENDAR