BEGIN:VCALENDAR
VERSION:2.0
PRODID:-//Ghid Local Brasov - ECPv5.1.1//NONSGML v1.0//EN
CALSCALE:GREGORIAN
METHOD:PUBLISH
X-WR-CALNAME:Ghid Local Brasov
X-ORIGINAL-URL:https://ghidlocal.com/brasov
X-WR-CALDESC:Events for Ghid Local Brasov
BEGIN:VTIMEZONE
TZID:Europe/Bucharest
BEGIN:DAYLIGHT
TZOFFSETFROM:+0200
TZOFFSETTO:+0300
TZNAME:EEST
DTSTART:20170326T010000
END:DAYLIGHT
BEGIN:STANDARD
TZOFFSETFROM:+0300
TZOFFSETTO:+0200
TZNAME:EET
DTSTART:20171029T010000
END:STANDARD
END:VTIMEZONE
BEGIN:VEVENT
DTSTART;TZID=Europe/Bucharest:20170721T170000
DTEND;TZID=Europe/Bucharest:20170721T200000
DTSTAMP:20260420T135347
CREATED:20170519T104435Z
LAST-MODIFIED:20170821T063627Z
UID:12651-1500656400-1500667200@ghidlocal.com
SUMMARY:Curs: Initiere in Thetahealing
DESCRIPTION:Initiere in THETAHEALING – BRASOV 21-22-23 iulie\nCurs ThetaHealing ADN2 Baza \nAfla cum poti sa ajungi la forma ta cea mai buna.\nTe invit sa descoperi\, tehnica ThetaHealing participand la curs. \nINVESTITIE: \nPROMOTIE – 500 lei\nVARIANTA ECONOMICA\n450 lei pentru grup de 2 persoane\n400 lei pentru grup de 3 persoane + \nObservate: PROMOTIA este valabila pana pe 10 iulie. \nUlterior\, Pret intreg: 700 lei \nMA INSCRIU LA CURS:\noffice@alexaevent.ro sau 0742483333 \nAsigurarea unui loc la curs se face prin depunerea unui avans de 100 lei.Detaliile le descoperi la 0742483333 sau office@alexaevent.ro \nPrimesti\nmanualul cursului baza in limba romana\ninitiere in metoda ThetaHealing si posibilitatea punerii in practica a tehnicilor predate de instructor\n3 zile de exersare intensiva a starii de constiinta theta\ninvatarea si exersarea exercitiilor din manual\ncertificat ThetaHealing eliberat de Instititul THInK USA\ninscrierea gratuita ca practicant pe site-ul oficial http://www.thetahealing.ro\naccesul la cursurile de instructor ThetaHealing organizate in lume de Vianna Stibal \nPROGRAM\nvineri 17.00 – 21.00\nsambata 09.00 – 17.00\nduminica 09.00 – 17.00 \nLocatia va fi transmisa participantilor \nCE ESTE SI CUM NE IMBUNATATIM VIATA CU THETAHEALIG? \nDepaseste-ti propriile limite utilizand Tehnica ThetaHealing si invatand cum sa-ti descoperi propriile bariere invizibile\, care te blocheaza in ascensiunea ta spiriuala\, materiala\, in relatii. \nCE ESTE THETAHEALING DE FAPT? ThetaHealing este o metoda spirituala de dezvoltare personala. \nTehnica ThetaHealing este una din cele mai usore metode pe care fiecare din noi o poate invata cu multa usurinta si aplica in viata de zi cu zi. Daca inainte aveai impresia ca meditatiile sunt ceva foarte complicat si care necesita mult timp si la care doar cei initiati pot avea acces\, ACUM ai sa DESCOPERI ca exista si modalitati mult mai simple care te vor incanta. \nCE SUNT UNDELE THETA? Undele Theta sunt\, unde cerebrale ale creierului nostru si care au o frecventa cuprinsa intre 4 si 7 MHz\, si sunt specifice somnului cu vise\, relaxarii profunde\, starilor profund meditative sau rugaciunii profunde. \nSI CU NE AJUTA ACESTE UNDE THETA? \nPutem accesaa resursele creierului nostru\, subconstientul\, mecanismele care ne leaga de universul care ne inconjoara\, putem sa descoperim ce crede subconstientul nostru despre anumite lucruri. Putem sa ne descatusam potentialul nostru si sa il aducem la cel mai inalt nivel. \nSI CE AVANTAJE AVEM DACA PUTEM FACE ACEST LUCRU? \nPutem accesaa resursele creierului nostru\, subconstientul\, mecanismele care ne leaga de universul care ne inconjoara\, putem sa descoperim ce crede subconstientul nostru despre anumite lucruri. Putem sa ne descatusam potentialul nostru si sa il aducem la cel mai inalt nivel. \nTEMELE CURSULUI \nCum a aparut ThetaHealing si povestea Vianei Stibal\nEfectul gandurilor noastre asupra realitatii inconjuratoare\nCe este starea Theata?\nChacrele si simturile paranormale\nObservatorul influenteaza realitatea\nLiberul Arbitru\nVizualizarea si imaginatia\nCererea ferma si Comanda\nMeditatia TheatHealing\nConectarea cu Creatorul\nCitirea intuitiva\nVindecarea si Autovindecarea\nVindecarea de grup si cum procedam\nInchiderea campului energetic\nCuratarea campului energetic\nTestarea musculara\nCele 4 nivele de convingeri\nConvingeri Cheie\nSchimbarea Convingerilor\nModalitati de a descoperi convingere cheie\nCrearea de noi sentimente\nCele 7 Planuri ale Existentei\nComunicarea cu Ingerii pazitori\nIndepartarea spiritelor ratacite\nAnularea atacurilor energetice\nRecuperarea bucatilor de Suflet\nSufletul pereche Imbunatatirea relatiilor\nManifestare Citirea viitorului\nActivarea Cromozomilor AND\nRepararea genelor\nActivarea programelor de Vitalitate si Tinerete \nMA INSCRIU LA CURS : office@alexaevent.ro sau 0742483333 \nORGANIZATOR:\nALEXAEVENT 0742 483 333 \n
URL:https://ghidlocal.com/brasov/eveniment/curs-initiere-in-thetahealing/2017-07-21/
LOCATION:Alexaevent.ro\, Strada15 noiembrie nr 44\, Brasov\, Romania
ATTACH;FMTTYPE=image/jpeg:https://cdn.cluj.com/ghidlocalcom/sites/6/2017/05/2ad489bfdfb00ad614e0a1b026807a9d.jpg
END:VEVENT
END:VCALENDAR