BEGIN:VCALENDAR
VERSION:2.0
PRODID:-//Ghid Local Brasov - ECPv5.1.1//NONSGML v1.0//EN
CALSCALE:GREGORIAN
METHOD:PUBLISH
X-WR-CALNAME:Ghid Local Brasov
X-ORIGINAL-URL:https://ghidlocal.com/brasov
X-WR-CALDESC:Events for Ghid Local Brasov
BEGIN:VTIMEZONE
TZID:Europe/Bucharest
BEGIN:DAYLIGHT
TZOFFSETFROM:+0200
TZOFFSETTO:+0300
TZNAME:EEST
DTSTART:20180325T010000
END:DAYLIGHT
BEGIN:STANDARD
TZOFFSETFROM:+0300
TZOFFSETTO:+0200
TZNAME:EET
DTSTART:20181028T010000
END:STANDARD
END:VTIMEZONE
BEGIN:VEVENT
DTSTART;TZID=Europe/Bucharest:20180416T180000
DTEND;TZID=Europe/Bucharest:20180420T220000
DTSTAMP:20260423T131622
CREATED:20180112T083529Z
LAST-MODIFIED:20180112T083529Z
UID:34877-1523901600-1524261600@ghidlocal.com
SUMMARY:Curs Anatol B. Materializarea Gandurilor Si Atingerea Scopurilor
DESCRIPTION:Anatol Basarab\, revine in Brasov pentru a te invata in ce consta puterea psihicului si cum reusim materializarea gandurilor. \nCursul incepe luni\, 16 aprilie\, ora 18.00.Ne intalnim 5 zile consecutiv\, in intervalul 18.00-22.00 pentru a invata si aprofunda tehnicile ce permit fiintei umane sa se conecteze la colosala putere a Universului. \nInscrierile se fac la 0742483333 – Alexa.Rezervarea se face in baza unui avans de 250 lei! Investitie curs 900 lei! \nLa acest curs\, vei invata care sunt legile fundamentale ale vietii cat si modul de actiune a gandurilor\, cuvintelor si emotiilor.\nTeme principale:\nIndeplinirea dorintelor prin puterea gandului.\nArta de a fi fericit.\nCum sa devii norocos.\nAtingerea scopurilor\nInstructiunile de utilizare a vietii. \n
URL:https://ghidlocal.com/brasov/eveniment/curs-anatol-b-materializarea-gandurilor-si-atingerea-scopurilor/
LOCATION:Alexaevent.ro\, Strada15 noiembrie nr 44\, Brasov\, RO
CATEGORIES:Cursuri
ATTACH;FMTTYPE=image/jpeg:https://cdn.cluj.com/ghidlocalcom/sites/6/2018/01/34877_image_26231670_1967125296660840_7239058775175415845_n.jpg
END:VEVENT
END:VCALENDAR