BEGIN:VCALENDAR
VERSION:2.0
PRODID:-//Ghid Local Brasov - ECPv5.1.1//NONSGML v1.0//EN
CALSCALE:GREGORIAN
METHOD:PUBLISH
X-WR-CALNAME:Ghid Local Brasov
X-ORIGINAL-URL:https://ghidlocal.com/brasov
X-WR-CALDESC:Events for Ghid Local Brasov
BEGIN:VTIMEZONE
TZID:Europe/Bucharest
BEGIN:DAYLIGHT
TZOFFSETFROM:+0200
TZOFFSETTO:+0300
TZNAME:EEST
DTSTART:20180325T010000
END:DAYLIGHT
BEGIN:STANDARD
TZOFFSETFROM:+0300
TZOFFSETTO:+0200
TZNAME:EET
DTSTART:20181028T010000
END:STANDARD
END:VTIMEZONE
BEGIN:VEVENT
DTSTART;TZID=Europe/Bucharest:20180315T180000
DTEND;TZID=Europe/Bucharest:20180315T210000
DTSTAMP:20260421T070717
CREATED:20180228T074959Z
LAST-MODIFIED:20180228T074959Z
UID:43273-1521136800-1521147600@ghidlocal.com
SUMMARY:Cum sunt iubirile fericite?
DESCRIPTION:Vă propunem un seminar cu participare interactivă despre cum să ai o relație de iubire așa cum ți-ai dorit. Va fi susținut de Cristiana Jârcă-Vladu\, consilier pentru cuplu și familie și psiholog clinician. \nVrei să aduci mai multă iubire în relația ta?Pare că te îndrăgostești de cine nu trebuie ? Simți că partenerul tău nu îți împlinește așteptările ? Iubești dar nu te simți iubit ?\nVă invităm la un seminar despre tiparele dragostei și despre cum să conștientizăm și să ieșim din fiecare tipar pentru a ajunge la o relație de iubire fericită.\nCui se adresează?\nSe adresează tinerilor care\n–	sunt la început de drum și nu au încă o relație de iubire\,\n–	sau care au o relație dar nu prea merge cum și-au dorit\,\n–	sau care au o relație de iubire și vor să o îmbunătățească.\nSe mai adresează adulților care\n–	sunt la început de drum în dezvoltarea personală\,\n–	vor să afle mai multe despre tiparele dragostei\,\n–	vor să aplice aceste noi cunoștințe în relațiile lor pentru a fi fericiți.\nCum se va desfășura ?\n–	aduceți cu voi voie bună și dorința de a comunica\,\n–	vor fi exerciții interactive\, exerciții de dezvoltare personală\,\n–	veți primi informații cu privire la acest subiect din domeniul psihologiei și al psihoterapiei de familie\,\n–	veți participa la exerciții amuzante dar și serioase alături de membrii grupului\,\n–	veți lega noi prietenii și veți cunoaște oameni frumoși alături de care sper să vă simțiți minunat\,\n–	la sfârșit\, veți avea experiențe noi și conștientizări noi despre cum să aveți o relație de iubire fericită.\nCât durează și care este costul?\nSeminarul durează 3 ore și investiția dumneavoastră este de 50 de lei. Studenții au o reducere\, și anume ei vor plăti doar 30 de lei. Avem 20 de locuri\, deci vă așteptăm cu drag să vă înscrieți cât mai curând!\nDacă veți vrea\, vom putea să ne revedem săptămânal timp de 7 săptămâni pentru a aborda toate tipurile de relații și pentru a vă îmbogăți viața cu noi experiențe și informații care vă vor ajuta să vă creați o relație fericită. Am putea forma un grup și fiecare dintre noi poate să învețe alături de ceilalți cum să aibă relații fericite mai întâi cu propria persoană\, apoi cu părinții și nu în cele din urmă cu prietenul/prietena\, iubitul/iubita\, soțul/soția și cu copiii. Vom discuta la prima întâlnire despre o posibilă continuitate a seminarului. Vă așteptăm cu drag! \n
URL:https://ghidlocal.com/brasov/eveniment/cum-sunt-iubirile-fericite/
LOCATION:Leia\, Calea Bucuresti\, 54\, Brasov\, 500365\, RO
CATEGORIES:Cursuri
ATTACH;FMTTYPE=image/jpeg:https://cdn.cluj.com/ghidlocalcom/sites/6/2018/02/43273_image_28277366_2059212320982856_8724140467633626627_n.jpg
END:VEVENT
END:VCALENDAR