BEGIN:VCALENDAR
VERSION:2.0
PRODID:-//Ghid Local Brasov - ECPv5.1.1//NONSGML v1.0//EN
CALSCALE:GREGORIAN
METHOD:PUBLISH
X-WR-CALNAME:Ghid Local Brasov
X-ORIGINAL-URL:https://ghidlocal.com/brasov
X-WR-CALDESC:Events for Ghid Local Brasov
BEGIN:VTIMEZONE
TZID:Europe/Bucharest
BEGIN:DAYLIGHT
TZOFFSETFROM:+0200
TZOFFSETTO:+0300
TZNAME:EEST
DTSTART:20180325T010000
END:DAYLIGHT
BEGIN:STANDARD
TZOFFSETFROM:+0300
TZOFFSETTO:+0200
TZNAME:EET
DTSTART:20181028T010000
END:STANDARD
END:VTIMEZONE
BEGIN:VEVENT
DTSTART;TZID=Europe/Bucharest:20180414T100000
DTEND;TZID=Europe/Bucharest:20180414T143000
DTSTAMP:20260423T162422
CREATED:20180212T095204Z
LAST-MODIFIED:20180212T095204Z
UID:40422-1523700000-1523716200@ghidlocal.com
SUMMARY:Cum își găsesc copiii drumul?
DESCRIPTION:Cum își găsesc copiii drumul în viață?  \nCum se construiesc motivațiile adevărate\, nevoia de a afla și bucuria de a face lucruri importante în viață ?  \nCum observ\, aflu și onorez particularitățile copilului meu? Cum evaluez cine e copilul meu și încotro se îndreaptă el? Ce pot face eu\, ca părinte\, și ce pot face profesorii pentru devenirea lui?  \nCum suplinesc acasă ce nu reușește școala? Ca profesor\, cum sprijin o generație de copii\, uneori\, insuficient susținută de familie? \nVă învit la o întâlnire bazată pe întrebările voastre\, pe intervențiile voastre directe și spontane\, pornind de la convingerile sau conflictele sufletești pe care le avem ca profesori sau părinți în fața noilor generații de copii! Experiențele și prezența voastră în fața celorlalți\, alături de mine- vor transforma întâlnirea noastră în energie adevărată și inspirație imediată! \nVin cu toată experiența mea de peste 20 de ani în școală\, ca mamă\, ca dascăl\, ca director și formator- cu intuiția și cunoașterea deopotrivă a sute de studii și cercetări despre psihologia copilului și managementul învățării autentice. Și mai ales cu șansa de a fi văzut câteva  generații de copii crescând sub ochii mei\, de la 2 la 16 ani\, aceeași\, în continuă transformare.\n– Ce îl face pe unul să reușească?\n– Ce îl face pe altul să renunțe?\n– Când se întoarce cheia autodeterminării?\n– Care experiență sau care dascăl\, ce acțiune\, ce cuvânt poate hotărî destinul copilului meu? \nVă aștept la Brașov\, cu sprijinul a două doamne dragi – Ioana Țirea & Elena Loghin\,  să ne cunoaștem – profesori și părinți – ca parteneri și martori în creșterea copiilor noștri! \nÎnscrierile se deschid în curând.\nLocurile sunt limitate! \n
URL:https://ghidlocal.com/brasov/eveniment/cum-isi-gasesc-copiii-drumul/
LOCATION:Lux Divina Centru de Evenimente\, 13 Decembrie 96\, Brasov\, 500164\, RO
CATEGORIES:Conferinte Brasov
ATTACH;FMTTYPE=image/jpeg:https://cdn.cluj.com/ghidlocalcom/sites/6/2018/02/40422_image_27625401_1812014105500021_4783422999150530446_o.jpg
END:VEVENT
END:VCALENDAR