BEGIN:VCALENDAR
VERSION:2.0
PRODID:-//Ghid Local Brasov - ECPv5.1.1//NONSGML v1.0//EN
CALSCALE:GREGORIAN
METHOD:PUBLISH
X-WR-CALNAME:Ghid Local Brasov
X-ORIGINAL-URL:https://ghidlocal.com/brasov
X-WR-CALDESC:Events for Ghid Local Brasov
BEGIN:VTIMEZONE
TZID:Europe/Bucharest
BEGIN:DAYLIGHT
TZOFFSETFROM:+0200
TZOFFSETTO:+0300
TZNAME:EEST
DTSTART:20180325T010000
END:DAYLIGHT
BEGIN:STANDARD
TZOFFSETFROM:+0300
TZOFFSETTO:+0200
TZNAME:EET
DTSTART:20181028T010000
END:STANDARD
END:VTIMEZONE
BEGIN:VEVENT
DTSTART;TZID=Europe/Bucharest:20180408T190000
DTEND;TZID=Europe/Bucharest:20180408T210000
DTSTAMP:20260421T151558
CREATED:20180404T080704Z
LAST-MODIFIED:20180404T080704Z
UID:48038-1523214000-1523221200@ghidlocal.com
SUMMARY:Crossover Opera - Melya Andra
DESCRIPTION:„Despre arta spulberătoare a cântului și cum încerc să aduc aminte celorlalți prin ea că toate sensibilitățile din ei au un sens.” \nO zi de Paște nu ca oricare alta\, cu soare\, operă\, jazz\, muzică vintage din anii ’60\,\, flori și zâmbete. \n
URL:https://ghidlocal.com/brasov/eveniment/crossover-opera-melya-andra/
LOCATION:Bistro de l’Arte\, Piata Enescu\, Brasov\, 500031\, RO
CATEGORIES:Altele
ATTACH;FMTTYPE=image/jpeg:https://cdn.cluj.com/ghidlocalcom/sites/6/2018/04/48038_image_29749549_1852519131458703_5793099146769737092_o.jpg
END:VEVENT
END:VCALENDAR