BEGIN:VCALENDAR
VERSION:2.0
PRODID:-//Ghid Local Brasov - ECPv5.1.1//NONSGML v1.0//EN
CALSCALE:GREGORIAN
METHOD:PUBLISH
X-WR-CALNAME:Ghid Local Brasov
X-ORIGINAL-URL:https://ghidlocal.com/brasov
X-WR-CALDESC:Events for Ghid Local Brasov
BEGIN:VTIMEZONE
TZID:Europe/Bucharest
BEGIN:DAYLIGHT
TZOFFSETFROM:+0200
TZOFFSETTO:+0300
TZNAME:EEST
DTSTART:20170326T010000
END:DAYLIGHT
BEGIN:STANDARD
TZOFFSETFROM:+0300
TZOFFSETTO:+0200
TZNAME:EET
DTSTART:20171029T010000
END:STANDARD
END:VTIMEZONE
BEGIN:VEVENT
DTSTART;TZID=Europe/Bucharest:20170721T180000
DTEND;TZID=Europe/Bucharest:20170721T200000
DTSTAMP:20260420T160536
CREATED:20170716T071656Z
LAST-MODIFIED:20170719T065446Z
UID:15813-1500660000-1500667200@ghidlocal.com
SUMMARY:Corul „Concentus” 20 Ani - Concert Aniversar
DESCRIPTION:Dragi Prieteni !!!\nVa invit cu mult drag\, impreuna cu colegii mei membri ai Corului Mixt de Camera „CONCENTUS” al Centrului Cultural „Reduta” Brasov\, sa fiti alaturi de noi intr-un moment cu totul special : „ANIVERSAREA A 20 DE ANI” de activitate a formatiei noastre. Va asteptam cu nerabdare\, ne-am bucura sa sarbatorim impreuna prin muzica acest moment unic si va promitem un spectacol frumos\, divers si antrenant\, cu invitati remarcabili\, dragi sufletelor noastre !!!!!  🙂\nCu prietenie\,\nMarius Modiga si Corul Concentus \n
URL:https://ghidlocal.com/brasov/eveniment/corul-concentus-20-ani-concert-aniversar/
CATEGORIES:Altele
ATTACH;FMTTYPE=image/jpeg:https://cdn.cluj.com/ghidlocalcom/sites/6/2017/07/f851dc411bbbb3ca46210d5c525e6a33.jpg
END:VEVENT
END:VCALENDAR