BEGIN:VCALENDAR
VERSION:2.0
PRODID:-//Ghid Local Brasov - ECPv5.1.1//NONSGML v1.0//EN
CALSCALE:GREGORIAN
METHOD:PUBLISH
X-WR-CALNAME:Ghid Local Brasov
X-ORIGINAL-URL:https://ghidlocal.com/brasov
X-WR-CALDESC:Events for Ghid Local Brasov
BEGIN:VTIMEZONE
TZID:Europe/Bucharest
BEGIN:DAYLIGHT
TZOFFSETFROM:+0200
TZOFFSETTO:+0300
TZNAME:EEST
DTSTART:20180325T010000
END:DAYLIGHT
BEGIN:STANDARD
TZOFFSETFROM:+0300
TZOFFSETTO:+0200
TZNAME:EET
DTSTART:20181028T010000
END:STANDARD
END:VTIMEZONE
BEGIN:VEVENT
DTSTART;TZID=Europe/Bucharest:20180420T120000
DTEND;TZID=Europe/Bucharest:20180422T150000
DTSTAMP:20260423T095221
CREATED:20180123T143419Z
LAST-MODIFIED:20180123T143419Z
UID:36934-1524225600-1524409200@ghidlocal.com
SUMMARY:Conferinta APAR editia a XIII-a
DESCRIPTION:INVITAȚIE CONFERINȚĂ \n	Membrii Asociației Psihologilor Atestați din România (A.P.A.R.) vă invită la cea de a XIII-a ediție a Conferinței naționale cu participare internațională pe tema \,\,TULBURĂRI DE PERSONALITATE- Punți între cercetări\, teorii și aplicații practice” care se va desfășura în perioada 20- 22 aprilie 2018 în sălile de conferință Europa ale hotelului Aro Palace 5* din Brașov. \n	Tulburările de personalitate\, situate la granița dintre normalitate și patologie\, repezintă o provocare în: teoretizarea\, cercetarea\, psihodiagnosticarea și intervenția psihologică/ psihoterapeutică sau medicamentoasă. Vă invităm ca împreună să facem schimb de experiențe profesionale\, să ne ostoim setea de cunoaștere de la invitați de onoare cu experiență vastă în domeniu. Putem trăi împreună sentimentul de apartenență într-un grup ce împărtășesc valori și obiective comune\, cu posibilitatea stabilirii de noi colaborări între colegii din aceeași profesie precum și dintre medici\, psihologi\, psihoterapeuți\, asistenți sociali\, asistenți medicali. \n	Asociația Psihologilor Atestați din România este furnizoare de formare profesională acreditată de Colegiul Psihologilor din România (C.P.R.) cu nr. aviz RF-II-BV-91. \n	Partenerii conferinței sunt: Centrul Internațional de Psihologie și Psihoterapie NEW LIFE\, Facultatea de Psihologie și Știintele Educației\, Departamentul de Psihopedagogie Specială\, din cadrul Universității din București\, Ordinului Asistenților Medicali Generaliști\, Moașelor și Asistenților Medicali din România- OAMGMAMR\, Colegiul Național al Asistenților Sociali. \n           Obiectivele conferinței sunt:\n-îmbogățirea cu noi cunoștințe prin dezbaterea de ceretări\, teorii\, tehnici\, metode pentru psihodiagnosticarea și intervențiilor psihologice/ psihoterapeutice sau a tratamentelor medicale în tulburările de personalitate\,\n-dezbaterea condițiilor de avizare psihologică\, respectiv medicală: a conducătorilor auto\, a noilor angajați\, a menținerii în unele funcții\, în procurarea/ deținerea/ folosirea unei arme letale/ neletale\,\n-stabilirea discernământului persoanei diagnosticate\,\n-pensionarea medicală a pacienților\, respectiv reinserția lor socială și profesională\,\n-alternative viabile pentru activarea și menținerea stării de bine din perspective antropologice\, psihopatologice\, psihoterapeutice.  \n	Aceste obiective se vor realiza în cadrul lucrărilor conferinței prin:\n-schimbul de experințe profesionale din praxisul celor cu experiență prin prezentarea studiilor de caz\,\n-stabilirea punților de legătură între cele mai moderne cerectări și teorii în domeniu prin prezentarea lucrărilor\, posterelor și workshopurilor\,\n-dezbateri în cadrul meselor rotunde.\n	Conceptul manifestării știintifice este gândit din perspectiva unei abordări pluridisciplinare. În cadrul acestui eveniment sunt invitaţi practicieni în domeniile: psihologie (toate specialitățile)\, medical (psihiatrie\, medicină-legală\, neurologie\, neurochirurgie\, geriatrie\, pediatrie\, medicină de familie și alte specializări medicale)\, asistenți sociali și asistenți medical\, dar și studenți ai facultăților de psihologie\, medicină\, aistență socială. \n	Conferința este acreditată la Colegiul Psihologilor din România\, psihologii atestați vor primi diplome de participare efectivă astfel:\n–  5 credite de formare profesională continuă pentru participare ca audient la lucrări\,\n-10 credite de formare profesională continuă pentru participare ca audient la workshop\,\n-10 credite de formare profesională continuă pentru participare ca prezentator de lucrare\,\n-12 credite de formare profesională continuă pentru participare ca prezentator de workshop. \n	Conferința este în curs de acreditare la:\n-Colegiul Medicilor din România pentru ca medicii să primească diplome de participare cu credite de educație medicală continuă (E.M.C.)\,\n-Ordinului Asistenților Medicali Generaliști\, Moașelor și Asistenților Medicali din România- OAMGMAMR pentru ca asistenții medicali să primească diplome de participare cu credite de educație profesională continuă (E.P.C.)\,\n-Colegiul Național al Asistenților Sociali pentru ca asistenții medicali să primească diplome de participare cu credite. \n          Formular de inscriere:\nhttps://docs.google.com/forms/d/e/1FAIpQLSd-B7Z7WO-fyXP1TXMY0g1jnvifWVHjbkRkNxP8BmFt8kUSCQ/viewform \n          Evenimentul este pe face book aici https://www.facebook.com/events/1859085474407913/?hc_location=ufi \n	SĂ NE FIE CU NOROC și SPRE FOLOS!!!\n        Vă așteptăm cu drag la conferință! \n	În numele membrilor din organizare\,\n	Veronica Jardan- președinte Asociația Psihologilor Atestați din România-A.P.A.R.\n	Detalii în curând pe www.psihologii.ro \n
URL:https://ghidlocal.com/brasov/eveniment/conferinta-apar-editia-a-xiii-a/
LOCATION:Asociatia Psihologilor  Atestati din Romania – APAR\, Brasov\, str. Lunga\, nr. 248\, Brasov\, RO
CATEGORIES:Conferinte Brasov
ATTACH;FMTTYPE=image/jpeg:https://cdn.cluj.com/ghidlocalcom/sites/6/2018/01/36934_image_21753033_661175397425328_622677133209083580_o.jpg
END:VEVENT
END:VCALENDAR