BEGIN:VCALENDAR
VERSION:2.0
PRODID:-//Ghid Local Brasov - ECPv5.1.1//NONSGML v1.0//EN
CALSCALE:GREGORIAN
METHOD:PUBLISH
X-WR-CALNAME:Ghid Local Brasov
X-ORIGINAL-URL:https://ghidlocal.com/brasov
X-WR-CALDESC:Events for Ghid Local Brasov
BEGIN:VTIMEZONE
TZID:Europe/Bucharest
BEGIN:DAYLIGHT
TZOFFSETFROM:+0200
TZOFFSETTO:+0300
TZNAME:EEST
DTSTART:20180325T010000
END:DAYLIGHT
BEGIN:STANDARD
TZOFFSETFROM:+0300
TZOFFSETTO:+0200
TZNAME:EET
DTSTART:20181028T010000
END:STANDARD
END:VTIMEZONE
BEGIN:VEVENT
DTSTART;TZID=Europe/Bucharest:20180421T210000
DTEND;TZID=Europe/Bucharest:20180421T230000
DTSTAMP:20260423T062630
CREATED:20180401T093532Z
LAST-MODIFIED:20180401T093532Z
UID:47718-1524344400-1524351600@ghidlocal.com
SUMMARY:Concert de folk cu Tandem si Piticu
DESCRIPTION:Seara de folk cu Tandem si Piticu! \nPret bilet: 20 lei\nCuza Voda nr.5\nInfo si rezervari: 0730007009 \n
URL:https://ghidlocal.com/brasov/eveniment/concert-de-folk-cu-tandem-si-piticu/
LOCATION:Britishpubbrasov\, Alexandru Ioan Cuza 5\, Brasov\, 500014\, RO
CATEGORIES:Party-uri Brasov
ATTACH;FMTTYPE=image/jpeg:https://cdn.cluj.com/ghidlocalcom/sites/6/2018/04/47718_image_29595026_1853016614748883_5939798177674811262_n.jpg
END:VEVENT
END:VCALENDAR