BEGIN:VCALENDAR
VERSION:2.0
PRODID:-//Ghid Local Brasov - ECPv5.1.1//NONSGML v1.0//EN
CALSCALE:GREGORIAN
METHOD:PUBLISH
X-WR-CALNAME:Ghid Local Brasov
X-ORIGINAL-URL:https://ghidlocal.com/brasov
X-WR-CALDESC:Events for Ghid Local Brasov
BEGIN:VTIMEZONE
TZID:Europe/Bucharest
BEGIN:DAYLIGHT
TZOFFSETFROM:+0200
TZOFFSETTO:+0300
TZNAME:EEST
DTSTART:20180325T010000
END:DAYLIGHT
BEGIN:STANDARD
TZOFFSETFROM:+0300
TZOFFSETTO:+0200
TZNAME:EET
DTSTART:20181028T010000
END:STANDARD
END:VTIMEZONE
BEGIN:VEVENT
DTSTART;TZID=Europe/Bucharest:20180315T180000
DTEND;TZID=Europe/Bucharest:20180316T220000
DTSTAMP:20260421T070946
CREATED:20180312T122509Z
LAST-MODIFIED:20180312T122509Z
UID:45179-1521136800-1521237600@ghidlocal.com
SUMMARY:Caravana Docuart 2018 I Brasov - Sala Patria I Intrare liberă
DESCRIPTION:☆☆☆ Caravana Docuart se întoarce pentru al 5-lea an consecutiv la Brașov\, pentru a aduce o nouă serie de filme premiate la BDF.  \n#oameniidocumentarului sunt invitați să ia parte la două zile de proiecții\, pe 15 și 16 martie\, la Cinemateca Patria\, alături de regizorii și realizatorii filmelor. \nCINEMATECA PATRIA // 15 & 16 MARTIE // INTRARE LIBERĂ\n********************************************************************\nProgramul complet al evenimentului: \nJoi\, 15 MARTIE:\n► 18:00 Cine iubește și lasă R: Victor Gălușcă / 2016\, 17’ + Q&A\n► 18:30 Ionaș visează că plouă R: Dragoș Hanciu / 2017 + Q&A\n► 19:15 Varză\, cartofi și alți demoni R: Șerban Georgescu / 2016\n► 20:30 Variațiuni pe un nume R: Violeta Gorgos / 2016\, 84’ \nVINERI\, 16 MARTIE\n► 18:00 O viaţă ratată R: Eugeniu Bocancea / 2016\, 21’ + Q&A\n► 18:30 Bune și blânde R: Florin Andreescu / 2017\, 30’ + Q&A\n► 19:20 Momente de tăcere R: Ion Donică / 2017\, 60’ + Q&A\n► 20:30 Secondo me R: Pavel Cuzuioc / 2016\, 79’  \n************************************************************************\nCaravana Docuart este organizată de asociația Docuart și cofinanțată de Centrul Național al Cinematografiei (CNC) și Ministerul Culturii și Identității Naționale (MCIN).\n************************************************************************\nVezi traseul caravanei:\n☆☆☆ http://caravana.docuart.ro/ ☆☆☆\n___________________________________________________\nSponsor principal: BMW Group\nSponsor: Casa Iacob / Brașov\nParteneri:Primăria Municipiului Brașov\, Sala Patria\, ARTBURG \n
URL:https://ghidlocal.com/brasov/eveniment/caravana-docuart-2018-i-brasov-sala-patria-i-intrare-libera/
LOCATION:Sala Patria\, Bulevardul 15 Noiembrie 50A\, Brasov\, 500096\, RO
CATEGORIES:Film Brasov
ATTACH;FMTTYPE=image/jpeg:https://cdn.cluj.com/ghidlocalcom/sites/6/2018/03/45179_image_29066755_1719688624745426_1186649152637894656_o.jpg
END:VEVENT
END:VCALENDAR