BEGIN:VCALENDAR
VERSION:2.0
PRODID:-//Ghid Local Brasov - ECPv5.1.1//NONSGML v1.0//EN
CALSCALE:GREGORIAN
METHOD:PUBLISH
X-WR-CALNAME:Ghid Local Brasov
X-ORIGINAL-URL:https://ghidlocal.com/brasov
X-WR-CALDESC:Events for Ghid Local Brasov
BEGIN:VTIMEZONE
TZID:Europe/Bucharest
BEGIN:DAYLIGHT
TZOFFSETFROM:+0200
TZOFFSETTO:+0300
TZNAME:EEST
DTSTART:20180325T010000
END:DAYLIGHT
BEGIN:STANDARD
TZOFFSETFROM:+0300
TZOFFSETTO:+0200
TZNAME:EET
DTSTART:20181028T010000
END:STANDARD
END:VTIMEZONE
BEGIN:VEVENT
DTSTART;TZID=Europe/Bucharest:20180217T090000
DTEND;TZID=Europe/Bucharest:20180217T180000
DTSTAMP:20260420T135404
CREATED:20180213T074030Z
LAST-MODIFIED:20180213T074717Z
UID:40647-1518858000-1518890400@ghidlocal.com
SUMMARY:Brasov - Curs de croitorie pentru incepatori\, modulul 1
DESCRIPTION:Urmatorul Curs de croitorie pentru incepatori se desfasoara in weekendul 17-18 februarie 2018 la Brasov.\nVreti sa faceti parte din grup? Iata detaliile si programa:\nPentru acest prim modul\, avem in programa 2 piese vestimentare: fusta si pantaloni. Cursantii vor fi ghidati prin toti pasii incepand de la asezarea tiparului pe material\, croire\, si pana la proba\, ajustare si finisare.\nVeti invata cum sa folositi un tipar dintr-o revista comerciala de specialitate (Burda\, Simplicity etc) in functie de dimensiunile corpului pentru a croi o fusta si o pereche de pantaloni. Va veti familiariza cu masinile de cusut moderne si cu functiile de baza ale acestora si va veti coase propria fusta si propria pereche de pantaloni.\nVa amintim ca:\n*Este un curs „condensat”: veti putea obtine multe cunostinte teoretice si abilitati practice\, precum si tot felul de secrete si „trucuri” de-ale croitoriei\, intr-un timp mult mai scurt decat la cursurile conventionale.\n*NU este nevoie sa stiti deja ceva in domeniul croitoriei/cusutului. Este un curs de initiere.\n*Cursul este sustinut de Mariana Ciobanu\, un profesionist cu experienta intr-ale croitoriei si un om cu calitati pedagogice deosebite\, probate de multele serii de cursanti formati sub mana dansei (cursuri desfasurate la Bucuresti\, in parteneriat cu Brother – cusutsibrodat.ro)\, dintre care cativa au facut chiar cariere/afaceri de succes in domeniu.\n*Se lucreaza pe masini de cusut si surfilat Brother\, dintre cele mai moderne\, deci\, nu\, NU E NEVOIE sa aveti deja o MASINA DE CUSUT\n*Se lucreaza pe grupe mici\, de 6-7 cursanti\, astfel incat fiecare sa poata primi indrumarea necesara\n* Este un curs facut de oameni pasionati si asta e poate cel mai important\nCursurile se desfasoara in Brasov\, iar costul de participare este de 500 Lei\nInscrierea presupune achitarea unui avans de 100 lei.\nPentru inscriere si informatii mai amanuntite\, va asteptam sa ne scrieti un mesaj sau sa sunati la 0741.932.102 (Ioana Vasoti) \n
URL:https://ghidlocal.com/brasov/eveniment/brasov-curs-de-croitorie-pentru-incepatori-modulul-1/2018-02-17/
LOCATION:Cursuri de croitorie – Brasov\, Str. Victor Babes\, Brasov\, RO
CATEGORIES:Cursuri
ATTACH;FMTTYPE=image/jpeg:https://cdn.cluj.com/ghidlocalcom/sites/6/2018/02/40647_image_23376306_2025625901004655_7838205171625188914_n.jpg
END:VEVENT
END:VCALENDAR