BEGIN:VCALENDAR
VERSION:2.0
PRODID:-//Ghid Local Brasov - ECPv5.1.1//NONSGML v1.0//EN
CALSCALE:GREGORIAN
METHOD:PUBLISH
X-WR-CALNAME:Ghid Local Brasov
X-ORIGINAL-URL:https://ghidlocal.com/brasov
X-WR-CALDESC:Events for Ghid Local Brasov
BEGIN:VTIMEZONE
TZID:Europe/Bucharest
BEGIN:DAYLIGHT
TZOFFSETFROM:+0200
TZOFFSETTO:+0300
TZNAME:EEST
DTSTART:20180325T010000
END:DAYLIGHT
BEGIN:STANDARD
TZOFFSETFROM:+0300
TZOFFSETTO:+0200
TZNAME:EET
DTSTART:20181028T010000
END:STANDARD
END:VTIMEZONE
BEGIN:VEVENT
DTSTART;TZID=Europe/Bucharest:20180419T120000
DTEND;TZID=Europe/Bucharest:20180422T150000
DTSTAMP:20260423T113057
CREATED:20180327T090918Z
LAST-MODIFIED:20180327T090918Z
UID:47092-1524139200-1524409200@ghidlocal.com
SUMMARY:Brasov\, Curs Cake Design
DESCRIPTION:\nCake Design BRASOV \n\n
URL:https://ghidlocal.com/brasov/eveniment/brasov-curs-cake-design-2/
LOCATION:Magie in Cofetarie\, Ustensile Profesionale\, str. Merilor nr. 2\, Brasov\, 500471\, RO
CATEGORIES:Culinar Brasov
ATTACH;FMTTYPE=image/jpeg:https://cdn.cluj.com/ghidlocalcom/sites/6/2018/03/47092_image_29744354_1998804500372473_3205089654376784506_o.jpg
END:VEVENT
END:VCALENDAR