BEGIN:VCALENDAR
VERSION:2.0
PRODID:-//Ghid Local Brasov - ECPv5.1.1//NONSGML v1.0//EN
CALSCALE:GREGORIAN
METHOD:PUBLISH
X-WR-CALNAME:Ghid Local Brasov
X-ORIGINAL-URL:https://ghidlocal.com/brasov
X-WR-CALDESC:Events for Ghid Local Brasov
BEGIN:VTIMEZONE
TZID:Europe/Bucharest
BEGIN:DAYLIGHT
TZOFFSETFROM:+0200
TZOFFSETTO:+0300
TZNAME:EEST
DTSTART:20180325T010000
END:DAYLIGHT
BEGIN:STANDARD
TZOFFSETFROM:+0300
TZOFFSETTO:+0200
TZNAME:EET
DTSTART:20181028T010000
END:STANDARD
END:VTIMEZONE
BEGIN:VEVENT
DTSTART;TZID=Europe/Bucharest:20180302T210000
DTEND;TZID=Europe/Bucharest:20180302T210000
DTSTAMP:20260420T095511
CREATED:20180123T140751Z
LAST-MODIFIED:20180226T104220Z
UID:36885-1520024400-1520024400@ghidlocal.com
SUMMARY:Bal Mascat Venețian
DESCRIPTION:JCI Brașov are plăcerea de a vă invita la un eveniment inedit în orașul Brașov\, un bal mascat venețian. Acesta va avea loc în data de 2 martie și va veni în întâmpinarea primăverii. În cadrul evenimentului vor avea loc diverse momente artistice\, pregătite de artiști locali și din alte orașe din România. Multumita partenerilor nostri\, Kronfilm\, vom avea parte de momente muzicale\, de dans\, de stand-up tocmai pentru a promova cultura artistică și talentele tinere din România.\nCum este un bal\, va fi nevoie ca participanții să se prezinte în haine care se potrivesc acestei tematici\, și anume într-o garderobă stilată\, în costum și în rochii de seară.\nInscrisii vor fi contactati pentru a ii informa cum vor putea intra in posesia biletului. In perioada 10-28.01.2018 se implementeaza Early Bird-ul cu o reducere de 25%\, iar din 28.01-20.02.2018 se va oferi doar bilet standard. Se va oferi Program artistic\, de dans\, meniu Finger Food si Open Bar.\nInscrierea se va face de pe site-ul JCI Brasov incepand cu data de 09.01.2018\n►https://jci-brasov.ro/bal-mascat-venetian/ \n
URL:https://ghidlocal.com/brasov/eveniment/bal-mascat-venetian/
LOCATION:Kronwell Hotel\, Brașov\, Brasov\, 500203\, RO
CATEGORIES:Party-uri Brasov
ATTACH;FMTTYPE=image/jpeg:https://cdn.cluj.com/ghidlocalcom/sites/6/2018/01/36885_image_26233724_2063405707260611_312751936726503817_o.jpg
END:VEVENT
END:VCALENDAR