BEGIN:VCALENDAR
VERSION:2.0
PRODID:-//Ghid Local Brasov - ECPv5.1.1//NONSGML v1.0//EN
CALSCALE:GREGORIAN
METHOD:PUBLISH
X-WR-CALNAME:Ghid Local Brasov
X-ORIGINAL-URL:https://ghidlocal.com/brasov
X-WR-CALDESC:Events for Ghid Local Brasov
BEGIN:VTIMEZONE
TZID:Europe/Bucharest
BEGIN:DAYLIGHT
TZOFFSETFROM:+0200
TZOFFSETTO:+0300
TZNAME:EEST
DTSTART:20180325T010000
END:DAYLIGHT
BEGIN:STANDARD
TZOFFSETFROM:+0300
TZOFFSETTO:+0200
TZNAME:EET
DTSTART:20181028T010000
END:STANDARD
END:VTIMEZONE
BEGIN:VEVENT
DTSTART;TZID=Europe/Bucharest:20180405T200000
DTEND;TZID=Europe/Bucharest:20180406T010000
DTSTAMP:20260420T082246
CREATED:20180402T213148Z
LAST-MODIFIED:20180402T213148Z
UID:47884-1522958400-1522976400@ghidlocal.com
SUMMARY:Back to the Old School
DESCRIPTION:Seara de joi o dedicam iubitorilor de BLUES !\nAducem tribut celor mai mari nume ale tuturor timpurilor și le dăm viață prin comoara primită de la ei – muzica de calitate ! \nINFO & RSVP: 0733 800 700\nM.Kogalniceanu 15\, Brasov \n
URL:https://ghidlocal.com/brasov/eveniment/back-to-the-old-school-2/
LOCATION:Temple Pub\, Strada Mihail Kogalniceanu no. 15\, Brasov\, 500173\, RO
CATEGORIES:Party-uri Brasov
ATTACH;FMTTYPE=image/jpeg:https://cdn.cluj.com/ghidlocalcom/sites/6/2018/04/47884_image_29749499_1901291403237776_6059614561848822499_o.jpg
END:VEVENT
END:VCALENDAR