BEGIN:VCALENDAR
VERSION:2.0
PRODID:-//Ghid Local Brasov - ECPv5.1.1//NONSGML v1.0//EN
CALSCALE:GREGORIAN
METHOD:PUBLISH
X-WR-CALNAME:Ghid Local Brasov
X-ORIGINAL-URL:https://ghidlocal.com/brasov
X-WR-CALDESC:Events for Ghid Local Brasov
BEGIN:VTIMEZONE
TZID:Europe/Bucharest
BEGIN:DAYLIGHT
TZOFFSETFROM:+0200
TZOFFSETTO:+0300
TZNAME:EEST
DTSTART:20180325T010000
END:DAYLIGHT
BEGIN:STANDARD
TZOFFSETFROM:+0300
TZOFFSETTO:+0200
TZNAME:EET
DTSTART:20181028T010000
END:STANDARD
END:VTIMEZONE
BEGIN:VEVENT
DTSTART;TZID=Europe/Bucharest:20180212T193000
DTEND;TZID=Europe/Bucharest:20180212T223000
DTSTAMP:20260420T112410
CREATED:20180211T214802Z
LAST-MODIFIED:20180211T214802Z
UID:40324-1518463800-1518474600@ghidlocal.com
SUMMARY:B.D. la munte si la mare\, dar si la SocialPub
DESCRIPTION:B.D. la munte si la mare\, dar si la Social Pub – Lounge! \nPopcorn-ul este din partea casei! \nSee you there! \n#beSocial \n
URL:https://ghidlocal.com/brasov/eveniment/b-d-la-munte-si-la-mare-dar-si-la-socialpub/
LOCATION:Social Pub – Lounge\, B-dul. Mihail Kogalniceanu\, nr.15\, Brasov\, 500090\, RO
CATEGORIES:Party-uri Brasov
ATTACH;FMTTYPE=image/jpeg:https://cdn.cluj.com/ghidlocalcom/sites/6/2018/02/40324_image_27982923_1740818152628195_6111595843001539980_o.jpg
END:VEVENT
END:VCALENDAR