BEGIN:VCALENDAR
VERSION:2.0
PRODID:-//Ghid Local Brasov - ECPv5.1.1//NONSGML v1.0//EN
CALSCALE:GREGORIAN
METHOD:PUBLISH
X-WR-CALNAME:Ghid Local Brasov
X-ORIGINAL-URL:https://ghidlocal.com/brasov
X-WR-CALDESC:Events for Ghid Local Brasov
BEGIN:VTIMEZONE
TZID:Europe/Bucharest
BEGIN:DAYLIGHT
TZOFFSETFROM:+0200
TZOFFSETTO:+0300
TZNAME:EEST
DTSTART:20170326T010000
END:DAYLIGHT
BEGIN:STANDARD
TZOFFSETFROM:+0300
TZOFFSETTO:+0200
TZNAME:EET
DTSTART:20171029T010000
END:STANDARD
END:VTIMEZONE
BEGIN:VEVENT
DTSTART;TZID=Europe/Bucharest:20171109T180000
DTEND;TZID=Europe/Bucharest:20171109T200000
DTSTAMP:20260420T082439
CREATED:20171108T112614Z
LAST-MODIFIED:20171108T112614Z
UID:28085-1510250400-1510257600@ghidlocal.com
SUMMARY:Autobiografia - Mărturia unei vieți
DESCRIPTION:Autobiografia – Mărturia unei vieți\nInvitați: Petronela Rotar-Cotoban\, Tudor Laurentiu-Ciprian\, Cătălin Stanciu\nModerator: Sorin Lucaci \n
URL:https://ghidlocal.com/brasov/eveniment/autobiografia-marturia-unei-vieti/
LOCATION:Libraria St. O. Iosif\, Muresenilor 14\, Brasov\, 500030\, RO
CATEGORIES:Cultural
ATTACH;FMTTYPE=image/jpeg:https://cdn.cluj.com/ghidlocalcom/sites/6/2017/11/28085_image_22712552_1689008207799813_5231839833867155362_o.jpg
END:VEVENT
END:VCALENDAR