BEGIN:VCALENDAR
VERSION:2.0
PRODID:-//Ghid Local Brasov - ECPv5.1.1//NONSGML v1.0//EN
CALSCALE:GREGORIAN
METHOD:PUBLISH
X-WR-CALNAME:Ghid Local Brasov
X-ORIGINAL-URL:https://ghidlocal.com/brasov
X-WR-CALDESC:Events for Ghid Local Brasov
BEGIN:VTIMEZONE
TZID:Europe/Bucharest
BEGIN:DAYLIGHT
TZOFFSETFROM:+0200
TZOFFSETTO:+0300
TZNAME:EEST
DTSTART:20170326T010000
END:DAYLIGHT
BEGIN:STANDARD
TZOFFSETFROM:+0300
TZOFFSETTO:+0200
TZNAME:EET
DTSTART:20171029T010000
END:STANDARD
END:VTIMEZONE
BEGIN:VEVENT
DTSTART;TZID=Europe/Bucharest:20170724T163000
DTEND;TZID=Europe/Bucharest:20170724T130000
DTSTAMP:20260420T130938
CREATED:20170721T074045Z
LAST-MODIFIED:20170724T071916Z
UID:16459-1500913800-1500901200@ghidlocal.com
SUMMARY:Ateliere gratuite cu experimente interesante - Magic Science
DESCRIPTION:Să descoperim universul din jurul nostru prin experimente! \nMagicscience aduce în fața copiilor experimente spectaculoase de chimie – fizică\, structurate pe mari teme științifice precum lumina\, sunetul\, surse de energie\, electromagnetism. \nParticipanții descoperă la fiecare atelier noi fenomene\, înţelegând explicațiile științifice şi aplicabilitatea lor în viaţa reală. \nCând?\nLuni\, 24 iulie – 16:30- 19:00\nMarti\, 25 iulie- 10:30-13:00 \nCine?\nCopii cu vârsta de 6 – 14 ani \nUnde?\nSitei 174\, Brasov. La baza Colinei\, dinspre str. Bisericii Române (vezi harta) \nCum?\nCompletând formularul de înscriere de aici https://goo.gl/forms/kPhnuxeRL9t7R2IP2 \nCoordonatori atelier : Prof. Roca Olimpiu\, Prof. Roca Aurelia. \nPrin aceste ateliere lansăm Brasov STEAM HUB – singurul centru de resurse educationale și antreprenoriale STEAM din Brasov! Aici copiii și tinerii vor putea lua contact cu ştiintele exacte într-un cadru nonformal\, care încurajează creativitatea și descoperirea de abilități pentru aceste domenii.\nSTEAM înseamnă : Științe\, Tehnologie\, Inginerie\, Arte și Matematică \nAtelierele sunt susţinute în parteneriat cu Științescu Hub Sibiu.\nProiect finanţat prin Fondul Ştiinţescu Braşov şi susţinut de Fundația Comunitară Brașov \n
URL:https://ghidlocal.com/brasov/eveniment/ateliere-gratuite-cu-experimente-interesante-magic-science/2017-07-24/
ATTACH;FMTTYPE=image/jpeg:https://cdn.cluj.com/ghidlocalcom/sites/6/2017/07/086dca93f573139a81ad94f310c682a0.jpg
END:VEVENT
END:VCALENDAR