BEGIN:VCALENDAR
VERSION:2.0
PRODID:-//Ghid Local Brasov - ECPv5.1.1//NONSGML v1.0//EN
CALSCALE:GREGORIAN
METHOD:PUBLISH
X-WR-CALNAME:Ghid Local Brasov
X-ORIGINAL-URL:https://ghidlocal.com/brasov
X-WR-CALDESC:Events for Ghid Local Brasov
BEGIN:VTIMEZONE
TZID:Europe/Bucharest
BEGIN:DAYLIGHT
TZOFFSETFROM:+0200
TZOFFSETTO:+0300
TZNAME:EEST
DTSTART:20170326T010000
END:DAYLIGHT
BEGIN:STANDARD
TZOFFSETFROM:+0300
TZOFFSETTO:+0200
TZNAME:EET
DTSTART:20171029T010000
END:STANDARD
END:VTIMEZONE
BEGIN:VEVENT
DTSTART;TZID=Europe/Bucharest:20170620T110000
DTEND;TZID=Europe/Bucharest:20170620T130000
DTSTAMP:20260421T115615
CREATED:20170614T070119Z
LAST-MODIFIED:20170615T064126Z
UID:13601-1497956400-1497963600@ghidlocal.com
SUMMARY:Atelier de vacanta pentru copii: modelaj in lut
DESCRIPTION:Asociaţia Culturală Artessentia şi Uniunea Junilor din Scheii Brasovului si Brasovechi ii invita pe copii\, parinti sau bunici\, la atelierele de arte si mestesuguri specifice zonei\,  organizate la Casa Junilor pe perioada vacantei de vara.  \nGhidati de artistii de la Artessentia\, Ioan si Vladimir Taroi\, copiii  au ocazia sa descopere arta modelajului in lut\, sa experimenteze diferite tehnici de prelucrare a lutului\, sa se familiarizeze cu instrumentarul specific si sa se bucure de atingerea unui material natural\, cu valente benefice. \nAtelierul se adreseaza in special copiilor peste 4 ani\, dar atelierul nostru poate fi un bun prilej de a petrece timp impreuna\, in familie. \nTaxa participare: 25 lei  – Sunt incluse materialele si uneltele necesare. \nPentru inscrieri\, va rugam să transmiteţi un mesaj de confirmare fermă cu titlul „Inscriere atelier ceramica”\, pe  email casajunilor@gmail.com\, care să conţină numele participantilor si un numar de telefon de contact. \nVa asteptam cu drag! \n
URL:https://ghidlocal.com/brasov/eveniment/atelier-de-vacanta-pentru-copii-modelaj-in-lut/
LOCATION:Casa Junilor\, Prundului 1\, Brasov\, 500123\, Romania
ATTACH;FMTTYPE=image/jpeg:https://cdn.cluj.com/ghidlocalcom/sites/6/2017/06/f0a2998df869f5be51ddfa34cc349aa1.jpg
END:VEVENT
END:VCALENDAR