BEGIN:VCALENDAR
VERSION:2.0
PRODID:-//Ghid Local Brasov - ECPv5.1.1//NONSGML v1.0//EN
CALSCALE:GREGORIAN
METHOD:PUBLISH
X-WR-CALNAME:Ghid Local Brasov
X-ORIGINAL-URL:https://ghidlocal.com/brasov
X-WR-CALDESC:Events for Ghid Local Brasov
BEGIN:VTIMEZONE
TZID:Europe/Bucharest
BEGIN:DAYLIGHT
TZOFFSETFROM:+0200
TZOFFSETTO:+0300
TZNAME:EEST
DTSTART:20180325T010000
END:DAYLIGHT
BEGIN:STANDARD
TZOFFSETFROM:+0300
TZOFFSETTO:+0200
TZNAME:EET
DTSTART:20181028T010000
END:STANDARD
END:VTIMEZONE
BEGIN:VEVENT
DTSTART;TZID=Europe/Bucharest:20180315T180000
DTEND;TZID=Europe/Bucharest:20180315T200000
DTSTAMP:20260421T070839
CREATED:20180304T080701Z
LAST-MODIFIED:20180304T080701Z
UID:43937-1521136800-1521144000@ghidlocal.com
SUMMARY:Atelier de modelaj/ceramică - diferite tehnici de modelare
DESCRIPTION:Va invităm să descoperiți arta modelajului în lut având ca pretext elemente și simboluri caracteristice sărbătorii de Paști. Veți experimenta diferite tehnici de prelucrare a lutului\, bucurându-vă de atingerea unui material natural\, într- un parcurs relaxant cu valențe benefice. \nLucrările realizate vor avea nevoie de o perioada de o săptămână pentru a fi uscate și apoi arse în cuptorul pentru ceramică\, devenind obiecte decorative ce vor personaliza spațiul casei dumneavoastră. \nAtelierul se adresează adulților și copiilor peste 10 ani deopotrivă. Poate fi prilej de a petrece timp împreună\, în familie. \nAtelierul este susţinut de artiștii vizuali Victoria Ţăroi\, Ioan Aron Taroi  membri ai Asociaţiei Culturale Artessentia. \nTaxa participare: 60 lei  – Sunt incluse materialele și uneltele necesare\, precum și arderea obiectelor. \nPentru înscrieri\, va rugăm să transmiteţi un mesaj de confirmare fermă cu titlul „Înscriere atelier ceramică”\, pe  email casajunilor@gmail.com\, care să conţînă şi datele dumneavoastră de contact. \nVa așteptăm cu drag! \n
URL:https://ghidlocal.com/brasov/eveniment/atelier-de-modelaj-ceramica-diferite-tehnici-de-modelare/
LOCATION:Casa Junilor\, Prundului 1\, Brasov\, 500123\, RO
CATEGORIES:Cultural
ATTACH;FMTTYPE=image/jpeg:https://cdn.cluj.com/ghidlocalcom/sites/6/2018/03/43937_image_28423126_1984501878431428_3676812743925080705_o.jpg
END:VEVENT
END:VCALENDAR