BEGIN:VCALENDAR
VERSION:2.0
PRODID:-//Ghid Local Brasov - ECPv5.1.1//NONSGML v1.0//EN
CALSCALE:GREGORIAN
METHOD:PUBLISH
X-WR-CALNAME:Ghid Local Brasov
X-ORIGINAL-URL:https://ghidlocal.com/brasov
X-WR-CALDESC:Events for Ghid Local Brasov
BEGIN:VTIMEZONE
TZID:Europe/Bucharest
BEGIN:DAYLIGHT
TZOFFSETFROM:+0200
TZOFFSETTO:+0300
TZNAME:EEST
DTSTART:20180325T010000
END:DAYLIGHT
BEGIN:STANDARD
TZOFFSETFROM:+0300
TZOFFSETTO:+0200
TZNAME:EET
DTSTART:20181028T010000
END:STANDARD
END:VTIMEZONE
BEGIN:VEVENT
DTSTART;TZID=Europe/Bucharest:20180106T100000
DTEND;TZID=Europe/Bucharest:20180106T130000
DTSTAMP:20260424T084938
CREATED:20171229T165355Z
LAST-MODIFIED:20171229T165355Z
UID:33236-1515232800-1515243600@ghidlocal.com
SUMMARY:Atelier de ilustratie – simboluri personale si rezolutii 2018
DESCRIPTION:2018 incepe cu rezolutii\, idei creative\, planuri si decizii pentru un an mai bun\, cu mai multa lumina\, liniste si multumire. Oricare ar fi toate aceste ganduri\, le asezam intr-o compozitie grafica\, le stilizam pana devin simboluri personale\, si ne creem propria lucrare-moto a anului nou. Reducere la esential\, personalizare\, abstractizare si recompunere grafica\, in tehnici la alegere\, de la desen la pictura si colaj. Exercitiul este unul de creativitate si constientizare de sine\, de aliniere a mintii si a sufletului intr-un gest artistic cu caracter introspect.\nSe va lucra pe hartie\, in tus\, creion\, acuarela\, colaj\, acrilic – in functie de compozitia fiecarui cursant.\nAtelierul este potrivit atat incepatorilor cat si celor intermediari si avansati in grafica si pictura\, este un exercitiu de stilizare si abstractizare care presupune o abordare interdisciplinara\, fara a punr accent pe tehnicile de pictura in stil realist.\nToate materialele sunt incluse.\nGrupa maxima: 8 persoane.\nlocul de desfasurare: Atelier Irina Neacsu\, str. Poarta Schei 6\, ap. 1\, Brasov\nPreț 150 ron\nToate inscrierile efectuate pana la sfarsitul lunii decembrie 2017 beneficiaza de discount 10% utilizand la inscriere prin site cuponul INW10 \n
URL:https://ghidlocal.com/brasov/eveniment/atelier-de-ilustratie-simboluri-personale-si-rezolutii-2018/
LOCATION:Atelier Irina Neacsu\, Strada Poarta Schei 6\, Brasov\, RO
CATEGORIES:Ateliere Brasov
ATTACH;FMTTYPE=image/jpeg:https://cdn.cluj.com/ghidlocalcom/sites/6/2017/12/33236_image_25660241_1648539368501393_897716253827129828_n.jpg
END:VEVENT
END:VCALENDAR