BEGIN:VCALENDAR
VERSION:2.0
PRODID:-//Ghid Local Brasov - ECPv5.1.1//NONSGML v1.0//EN
CALSCALE:GREGORIAN
METHOD:PUBLISH
X-WR-CALNAME:Ghid Local Brasov
X-ORIGINAL-URL:https://ghidlocal.com/brasov
X-WR-CALDESC:Events for Ghid Local Brasov
BEGIN:VTIMEZONE
TZID:Europe/Bucharest
BEGIN:DAYLIGHT
TZOFFSETFROM:+0200
TZOFFSETTO:+0300
TZNAME:EEST
DTSTART:20180325T010000
END:DAYLIGHT
BEGIN:STANDARD
TZOFFSETFROM:+0300
TZOFFSETTO:+0200
TZNAME:EET
DTSTART:20181028T010000
END:STANDARD
END:VTIMEZONE
BEGIN:VEVENT
DTSTART;TZID=Europe/Bucharest:20180414T100000
DTEND;TZID=Europe/Bucharest:20180414T130000
DTSTAMP:20260423T162720
CREATED:20180305T100541Z
LAST-MODIFIED:20180305T100541Z
UID:44133-1523700000-1523710800@ghidlocal.com
SUMMARY:Atelier de ilustrație botanică în acuarelă\, flori albe
DESCRIPTION:Dedicăm luna aprilie florilor de primăvară\, printr-un studiu de trei ore în acuarelă. Ne bucurăm cu florile de sezon\, și învățăm să mânuim acuarela pentru a le reda atât frumusețea\, cât și caracteristicile botanice ale florilor. Ilustrația botanică în acuarelă\, cu tehnici specifice și noțiuni despre umbră și lumină\, despre construcție și metodoligie de lucru. La Atelier Irina Neacsu găsiți toate materialele de care aveți nevoie. In plus\, că așteaptă cărți pentru inspirație\, modele de lucru din care puteti alege în funcție de nivelul de complexitate pe care doriți să îl exersați. Începătorii sunt bineveniți\, la fel și cei intermediari care doresc să își perfecționeze tehnica. \nIlustratia botanică are o frumoasă istorie\, care și-a atins interesul maxim în secolul 19. Atunci\, studiul botanic a fost o necesitate în documentarea florei specifice noilor teritorii colonizate\, dar și o forma de artă. Totodată\, a fost una din puține modalități la îndemana femeilor de apropiere față de latura științifică. Într-o lume modernă\, în care arareori mai este timp pentru studii atât de meticuloase\, s-ar fi spus că arta botanică este pe cale de dispariție. Astăzi rtiștii nu mai beneficiază de patronajul marilor case regale. În mod contrar însă\, artiștii botanici din toată lumea documentează constant plante vechi și noi. Lucrează în echipe complexe cu botaniști\, horticultori și oameni de știință. Astăzi\, ilustrația botanică are caracter în primul rând științific și apoi estetic\, este în continuare o formă de documentare dar și o abordare decorativă a picturii în acuarelă.\nLocul de desfășurare – Atelier Irina Neacsu\, str. Poarta Schei 6\, Brașov\nToate materialele sunt incluse\nPreț 170 ron \n
URL:https://ghidlocal.com/brasov/eveniment/atelier-de-ilustratie-botanica-in-acuarela-flori-albe/
LOCATION:Atelier Irina Neacsu\, Strada Poarta Schei 6\, Brasov\, RO
CATEGORIES:Ateliere Brasov
ATTACH;FMTTYPE=image/jpeg:https://cdn.cluj.com/ghidlocalcom/sites/6/2018/03/44133_image_28472213_1715702518451744_3256619875833514826_n.jpg
END:VEVENT
END:VCALENDAR