BEGIN:VCALENDAR
VERSION:2.0
PRODID:-//Ghid Local Brasov - ECPv5.1.1//NONSGML v1.0//EN
CALSCALE:GREGORIAN
METHOD:PUBLISH
X-WR-CALNAME:Ghid Local Brasov
X-ORIGINAL-URL:https://ghidlocal.com/brasov
X-WR-CALDESC:Events for Ghid Local Brasov
BEGIN:VTIMEZONE
TZID:Europe/Bucharest
BEGIN:DAYLIGHT
TZOFFSETFROM:+0200
TZOFFSETTO:+0300
TZNAME:EEST
DTSTART:20180325T010000
END:DAYLIGHT
BEGIN:STANDARD
TZOFFSETFROM:+0300
TZOFFSETTO:+0200
TZNAME:EET
DTSTART:20181028T010000
END:STANDARD
END:VTIMEZONE
BEGIN:VEVENT
DTSTART;TZID=Europe/Bucharest:20180316T100000
DTEND;TZID=Europe/Bucharest:20180316T120000
DTSTAMP:20260421T084954
CREATED:20180309T123734Z
LAST-MODIFIED:20180309T123734Z
UID:44844-1521194400-1521201600@ghidlocal.com
SUMMARY:Atelier de creatie pentru mamici si pitici
DESCRIPTION:La cererea voastra\, revenim cu bucurie la tema atelierului de ieri\, dedicat zilei mamicii.\nPentru ca orice zi poate fi o sarbatoare si mai ales pentru ca orice clipa petrecuta cu puiul tau este de nepretuit\, te invit vineri 16 martie\, la ora 10:00\, la o noua sesiune de joaca\, creatie si socializare atat pentru pitici cat si pentru mamici. \nVino cu buna dispozitie si vei pleca cu si mai multa! Plus\, o amintire frumoasa de luat acasa.  \nPretul atelierului este de 35 RON/mamica \nParticiparea se face doar cu o inscriere in prealabil\, prin mesaj privat pe facebook sau la 0737 521 312. \n
URL:https://ghidlocal.com/brasov/eveniment/atelier-de-creatie-pentru-mamici-si-pitici/
LOCATION:TIP TOP MInI CLuB\, Str. Ioan Popasu\, Brasov\, 507190\, RO
CATEGORIES:Activitati Copii
ATTACH;FMTTYPE=image/jpeg:https://cdn.cluj.com/ghidlocalcom/sites/6/2018/03/44844_image_28783136_157856458210266_1820831349116764160_o.jpg
END:VEVENT
END:VCALENDAR