BEGIN:VCALENDAR
VERSION:2.0
PRODID:-//Ghid Local Brasov - ECPv5.1.1//NONSGML v1.0//EN
CALSCALE:GREGORIAN
METHOD:PUBLISH
X-WR-CALNAME:Ghid Local Brasov
X-ORIGINAL-URL:https://ghidlocal.com/brasov
X-WR-CALDESC:Events for Ghid Local Brasov
BEGIN:VTIMEZONE
TZID:Europe/Bucharest
BEGIN:DAYLIGHT
TZOFFSETFROM:+0200
TZOFFSETTO:+0300
TZNAME:EEST
DTSTART:20180325T010000
END:DAYLIGHT
BEGIN:STANDARD
TZOFFSETFROM:+0300
TZOFFSETTO:+0200
TZNAME:EET
DTSTART:20181028T010000
END:STANDARD
END:VTIMEZONE
BEGIN:VEVENT
DTSTART;TZID=Europe/Bucharest:20180418T110000
DTEND;TZID=Europe/Bucharest:20180418T130000
DTSTAMP:20260423T113214
CREATED:20180321T212215Z
LAST-MODIFIED:20180321T212215Z
UID:46421-1524049200-1524056400@ghidlocal.com
SUMMARY:Alaptarea pas cu pas by AloMama
DESCRIPTION:Dragi burtici si proaspete mamici  Centrul AloMama va invita cu mult drag sa povestim despre tot ce inseamna alaptarea pentru un nou nascut\, despre beneficiile alăptării pe termen lung\, despre puseele de creștere care va dau atâtea bătăi de cap\, despre acea zisa „grevă a suptului”\, despre un start minunat alături de fiinta căreia ii veți da viață. \nNe vedem pentru a dezbate împreună toate temerile voastre\, vrem sa aveti parte de informații corecte iar in momentul nasterii sa fiți pregatite pentru acel start foarte important\, o sa fie un seminar inter-activ si cu siguranța veți pleca extrem de mulțumite si extrem de pregătite in a vă alapta bebelușul.\nVa asteptam cu lista de intrebari\, va stam la dispozitie cu toate raspunsurile \nTESTIMONIALE: \nPIRON SEMIDA\n„Îți mulțumesc și eu Miriam pentru acest curs. Chiar dacă sunt la a doua sarcina am învățat lucruri noi și sper ca de data aceasta alăptarea sa fie de lungă durată.  Mult succes mai departe ;)” \nMARIA PANAIT\n„Mulțumim și noi pentru informații și pentru lămuriri. E folositor cursul și e bine sa iți clarifici nedumeririle înainte de a naște.  Și pernele pentru alăptat sunt superbe. :)” \nDOBOS CAMELIA\n„Multumesc pentru sustinere si pentru ca mi ai raspuns la toate intrebarile cu care am venit. Si cel mai important iti multumesc ca am plecat linistita  si cu noi sperante in rezolvarea problemelor noastre” \nALINA PTRSCU\n„Multumim pentru ca organizati aceste cursuri si pentru ca sunteti acolo pentru noi!” \nGABRIELA CIUCANU\n„Informatiile prezentate mi s-au parut utile si credibile. Sper sa imi strang mai mult increderea in mine si sper sa poti sa ma ajuti fizic dupa nastere. E minunat ceea ce faceti si ferice ca exista oameni ca voi!” \nANGY TARABUTA\n„Foarte interesant cursul\,am aflat multe lucruri deapre alaptare pe care nu le stiam si mi-am dat seama ca pt o mama este f important sa cunosti cat mai multe lucruri!!” \nIOANA DURLEA\n„Multumim mult Miriam! Aveam nevoie sa-mi intaresc increderea ca ceea ce fac\, fac bine (alaptarea). Am aflat lucruri noi\, utile\, si ce-i mai linistitor e ca le-am aflat de la o persoana calificata. In plus\, m-am simtit minunat! Multumesc si pentru frumosul cadou!” \nLocatie: Centrul AloMama\nData: 18 Aprilie 2018\nOra: 11-13\nLocuri disponibile: 12\nCost: 100 Ron \nNu este suficient sa dati „join” la eveniment!Informatii suplimentare la nr tel ‭(0732) 566 262‬\nRugam confirmarea prezentei\nVa asteptam cu mult drag si nu uitați ca si taticii sunt bine veniți \n
URL:https://ghidlocal.com/brasov/eveniment/alaptarea-pas-cu-pas-by-alomama-3/
LOCATION:Centrul AloMama Brasov\, str. I. Teodoreanu nr. 1\, bl.2\, ap.7\, Brasov\, RO
CATEGORIES:Cursuri
END:VEVENT
END:VCALENDAR