BEGIN:VCALENDAR
VERSION:2.0
PRODID:-//Ghid Local Brasov - ECPv5.1.1//NONSGML v1.0//EN
CALSCALE:GREGORIAN
METHOD:PUBLISH
X-WR-CALNAME:Ghid Local Brasov
X-ORIGINAL-URL:https://ghidlocal.com/brasov
X-WR-CALDESC:Events for Ghid Local Brasov
BEGIN:VTIMEZONE
TZID:Europe/Bucharest
BEGIN:DAYLIGHT
TZOFFSETFROM:+0200
TZOFFSETTO:+0300
TZNAME:EEST
DTSTART:20180325T010000
END:DAYLIGHT
BEGIN:STANDARD
TZOFFSETFROM:+0300
TZOFFSETTO:+0200
TZNAME:EET
DTSTART:20181028T010000
END:STANDARD
END:VTIMEZONE
BEGIN:VEVENT
DTSTART;TZID=Europe/Bucharest:20180421T100000
DTEND;TZID=Europe/Bucharest:20180421T120000
DTSTAMP:20260423T081228
CREATED:20180328T104239Z
LAST-MODIFIED:20180328T104239Z
UID:47249-1524304800-1524312000@ghidlocal.com
SUMMARY:Afacerea mea – standul de sucuri naturale
DESCRIPTION:?‍?‍?‍?Pentru ca educatia copiilor nostri conteaza si pentru ca merita sa investim in ei\, Marry Poppins Juice Delivery va ofera un nou eveniment de data aceasta de educatie financiara intitulat: \n?„Afacerea mea – standul de sucuri naturale”.? \n?Cu acest curs ne propunem\, ca prin joc\, sa introducem copiii in mediul de afaceri pentru a intelege cum se castiga banii\, cum gandeste si actioneaza un manager\, vor invata elemente de antreprenoriat\, tehnici de negociere\, elemente de dezvoltare a abilitatilor practice\, lucrul in echipa\, elemente din tehnica actorului. \n?Cel care faciliteaza introducerea copiilor in aceasta lume este ing. Augustin Stanciu cu o experienta de 24 de ani in antreprenoriat\, 8 ani in formarea copiilor si adultilor\, 4 ani in lucru cu copiii la Atelier Sacelean\, Centrul de zi- Ziurel\, Casele de copii de la Tarlungeni\, Budila si Codlea. \n?Ne adresam copiilor cu varsta intre 8 si 14 ani cu dorinta de a-i pregati putin pentru ceva ce ar putea deveni visul lor. \n??Pretul pentru un participant este 70 lei iar pentru inscriere va rugam sa achitati un avans de 40 lei pana in data de 18.04. \n
URL:https://ghidlocal.com/brasov/eveniment/afacerea-mea-standul-de-sucuri-naturale/
CATEGORIES:Ateliere Brasov
ATTACH;FMTTYPE=image/jpeg:https://cdn.cluj.com/ghidlocalcom/sites/6/2018/03/47249_image_29354338_698165350307041_396347619904455079_o.jpg
END:VEVENT
END:VCALENDAR